BEGIN:VCALENDAR
VERSION:2.0
PRODID:-//Pfarrverband Maria Ramersdorf - St. Pius - ECPv6.15.20//NONSGML v1.0//EN
CALSCALE:GREGORIAN
METHOD:PUBLISH
X-ORIGINAL-URL:https://pv-maria-ramersdorf-st-pius.de
X-WR-CALDESC:Veranstaltungen für Pfarrverband Maria Ramersdorf - St. Pius
REFRESH-INTERVAL;VALUE=DURATION:PT1H
X-Robots-Tag:noindex
X-PUBLISHED-TTL:PT1H
BEGIN:VTIMEZONE
TZID:Europe/Berlin
BEGIN:DAYLIGHT
TZOFFSETFROM:+0100
TZOFFSETTO:+0200
TZNAME:CEST
DTSTART:20250330T010000
END:DAYLIGHT
BEGIN:STANDARD
TZOFFSETFROM:+0200
TZOFFSETTO:+0100
TZNAME:CET
DTSTART:20251026T010000
END:STANDARD
BEGIN:DAYLIGHT
TZOFFSETFROM:+0100
TZOFFSETTO:+0200
TZNAME:CEST
DTSTART:20260329T010000
END:DAYLIGHT
BEGIN:STANDARD
TZOFFSETFROM:+0200
TZOFFSETTO:+0100
TZNAME:CET
DTSTART:20261025T010000
END:STANDARD
BEGIN:DAYLIGHT
TZOFFSETFROM:+0100
TZOFFSETTO:+0200
TZNAME:CEST
DTSTART:20270328T010000
END:DAYLIGHT
BEGIN:STANDARD
TZOFFSETFROM:+0200
TZOFFSETTO:+0100
TZNAME:CET
DTSTART:20271031T010000
END:STANDARD
END:VTIMEZONE
BEGIN:VEVENT
DTSTART;VALUE=DATE:20260424
DTEND;VALUE=DATE:20260425
DTSTAMP:20260419T180845
CREATED:20260117T093720Z
LAST-MODIFIED:20260117T093720Z
UID:503-1776988800-1777075199@pv-maria-ramersdorf-st-pius.de
SUMMARY:Hl. Fidelis von Sigmaringen\, Ordenspriester\, Märtyrer (1622) bzw. Freitag der 3. Osterwoche
DESCRIPTION:Tagesevangelium: Joh 10\, 11-16 bzw. Joh 6\, 52-59
URL:https://pv-maria-ramersdorf-st-pius.de/event/hl-fidelis-von-sigmaringen-ordenspriester-maertyrer-1622-bzw-freitag-der-3-osterwoche/
CATEGORIES:Liturgischer Kalender
END:VEVENT
BEGIN:VEVENT
DTSTART;TZID=Europe/Berlin:20260424T080000
DTEND;TZID=Europe/Berlin:20260424T090000
DTSTAMP:20260419T180845
CREATED:20260327T145228Z
LAST-MODIFIED:20260327T145228Z
UID:6186-1777017600-1777021200@pv-maria-ramersdorf-st-pius.de
SUMMARY:Hl. Messe in St. Pius
DESCRIPTION:
URL:https://pv-maria-ramersdorf-st-pius.de/event/hl-messe-in-st-pius-9/
LOCATION:Pfarrheim St. Pius\, Piusstr. 11\, München\, 81675\, Germany
CATEGORIES:Termine Pfarrei
END:VEVENT
BEGIN:VEVENT
DTSTART;TZID=Europe/Berlin:20260424T180000
DTEND;TZID=Europe/Berlin:20260424T190000
DTSTAMP:20260419T180845
CREATED:20260327T145228Z
LAST-MODIFIED:20260327T145228Z
UID:6188-1777053600-1777057200@pv-maria-ramersdorf-st-pius.de
SUMMARY:Hl. Messe in Maria Ramersdorf
DESCRIPTION:
URL:https://pv-maria-ramersdorf-st-pius.de/event/hl-messe-in-maria-ramersdorf-12/
LOCATION:Pfarrkirche München-Mariä Himmelfahrt (Maria Ramersdorf)\, Aribonenstr. 9\, München\, 81669\, Germany
CATEGORIES:Termine Pfarrei
END:VEVENT
END:VCALENDAR