BEGIN:VCALENDAR
VERSION:2.0
PRODID:-//Pfarrverband Maria Ramersdorf - St. Pius - ECPv6.15.20//NONSGML v1.0//EN
CALSCALE:GREGORIAN
METHOD:PUBLISH
X-WR-CALNAME:Pfarrverband Maria Ramersdorf - St. Pius
X-ORIGINAL-URL:https://pv-maria-ramersdorf-st-pius.de
X-WR-CALDESC:Veranstaltungen für Pfarrverband Maria Ramersdorf - St. Pius
REFRESH-INTERVAL;VALUE=DURATION:PT1H
X-Robots-Tag:noindex
X-PUBLISHED-TTL:PT1H
BEGIN:VTIMEZONE
TZID:Europe/Berlin
BEGIN:DAYLIGHT
TZOFFSETFROM:+0100
TZOFFSETTO:+0200
TZNAME:CEST
DTSTART:20250330T010000
END:DAYLIGHT
BEGIN:STANDARD
TZOFFSETFROM:+0200
TZOFFSETTO:+0100
TZNAME:CET
DTSTART:20251026T010000
END:STANDARD
BEGIN:DAYLIGHT
TZOFFSETFROM:+0100
TZOFFSETTO:+0200
TZNAME:CEST
DTSTART:20260329T010000
END:DAYLIGHT
BEGIN:STANDARD
TZOFFSETFROM:+0200
TZOFFSETTO:+0100
TZNAME:CET
DTSTART:20261025T010000
END:STANDARD
BEGIN:DAYLIGHT
TZOFFSETFROM:+0100
TZOFFSETTO:+0200
TZNAME:CEST
DTSTART:20270328T010000
END:DAYLIGHT
BEGIN:STANDARD
TZOFFSETFROM:+0200
TZOFFSETTO:+0100
TZNAME:CET
DTSTART:20271031T010000
END:STANDARD
END:VTIMEZONE
BEGIN:VEVENT
DTSTART;VALUE=DATE:20260428
DTEND;VALUE=DATE:20260429
DTSTAMP:20260419T180655
CREATED:20260117T093721Z
LAST-MODIFIED:20260117T093721Z
UID:511-1777334400-1777420799@pv-maria-ramersdorf-st-pius.de
SUMMARY:Hl. Ludwig Maria Grignion de Montfort\, Priester (1716) bzw. Hl. Peter Chanel\, Priester\, erster Märtyrer in Ozeanien (1841) bzw. Dienstag der 4. Osterwoche
DESCRIPTION:Tagesevangelium: Mt 28\, 16-20 bzw. Mk 1\, 14-20 bzw. Joh 10\, 22-30
URL:https://pv-maria-ramersdorf-st-pius.de/event/hl-ludwig-maria-grignion-de-montfort-priester-1716-bzw-hl-peter-chanel-priester-erster-maertyrer-in-ozeanien-1841-bzw-dienstag-der-4-osterwoche/
CATEGORIES:Liturgischer Kalender
END:VEVENT
BEGIN:VEVENT
DTSTART;TZID=Europe/Berlin:20260428T080000
DTEND;TZID=Europe/Berlin:20260428T090000
DTSTAMP:20260419T180655
CREATED:20260327T145231Z
LAST-MODIFIED:20260327T145231Z
UID:6206-1777363200-1777366800@pv-maria-ramersdorf-st-pius.de
SUMMARY:Hl. Messe in St. Pius
DESCRIPTION:
URL:https://pv-maria-ramersdorf-st-pius.de/event/hl-messe-in-st-pius-12/
LOCATION:Pfarrheim St. Pius\, Piusstr. 11\, München\, 81675\, Germany
CATEGORIES:Termine Pfarrei
END:VEVENT
BEGIN:VEVENT
DTSTART;TZID=Europe/Berlin:20260428T180000
DTEND;TZID=Europe/Berlin:20260428T190000
DTSTAMP:20260419T180655
CREATED:20260327T145231Z
LAST-MODIFIED:20260327T145232Z
UID:6208-1777399200-1777402800@pv-maria-ramersdorf-st-pius.de
SUMMARY:Hl. Messe in Maria Ramersdorf
DESCRIPTION:
URL:https://pv-maria-ramersdorf-st-pius.de/event/hl-messe-in-maria-ramersdorf-14/
LOCATION:Pfarrkirche München-Mariä Himmelfahrt (Maria Ramersdorf)\, Aribonenstr. 9\, München\, 81669\, Germany
CATEGORIES:Termine Pfarrei
END:VEVENT
END:VCALENDAR