BEGIN:VCALENDAR
VERSION:2.0
PRODID:-//Pfarrverband Maria Ramersdorf - St. Pius - ECPv6.15.20//NONSGML v1.0//EN
CALSCALE:GREGORIAN
METHOD:PUBLISH
X-ORIGINAL-URL:https://pv-maria-ramersdorf-st-pius.de
X-WR-CALDESC:Veranstaltungen für Pfarrverband Maria Ramersdorf - St. Pius
REFRESH-INTERVAL;VALUE=DURATION:PT1H
X-Robots-Tag:noindex
X-PUBLISHED-TTL:PT1H
BEGIN:VTIMEZONE
TZID:Europe/Berlin
BEGIN:DAYLIGHT
TZOFFSETFROM:+0100
TZOFFSETTO:+0200
TZNAME:CEST
DTSTART:20250330T010000
END:DAYLIGHT
BEGIN:STANDARD
TZOFFSETFROM:+0200
TZOFFSETTO:+0100
TZNAME:CET
DTSTART:20251026T010000
END:STANDARD
BEGIN:DAYLIGHT
TZOFFSETFROM:+0100
TZOFFSETTO:+0200
TZNAME:CEST
DTSTART:20260329T010000
END:DAYLIGHT
BEGIN:STANDARD
TZOFFSETFROM:+0200
TZOFFSETTO:+0100
TZNAME:CET
DTSTART:20261025T010000
END:STANDARD
BEGIN:DAYLIGHT
TZOFFSETFROM:+0100
TZOFFSETTO:+0200
TZNAME:CEST
DTSTART:20270328T010000
END:DAYLIGHT
BEGIN:STANDARD
TZOFFSETFROM:+0200
TZOFFSETTO:+0100
TZNAME:CET
DTSTART:20271031T010000
END:STANDARD
END:VTIMEZONE
BEGIN:VEVENT
DTSTART;VALUE=DATE:20260429
DTEND;VALUE=DATE:20260430
DTSTAMP:20260419T180821
CREATED:20260117T093721Z
LAST-MODIFIED:20260117T093721Z
UID:513-1777420800-1777507199@pv-maria-ramersdorf-st-pius.de
SUMMARY:Hl. Katharina von Siena\, Ordensfrau\, Kirchenlehrerin\, Patronin Europas (1380)
DESCRIPTION:Tagesevangelium: Mt 11\, 25-30
URL:https://pv-maria-ramersdorf-st-pius.de/event/hl-katharina-von-siena-ordensfrau-kirchenlehrerin-patronin-europas-1380/
CATEGORIES:Liturgischer Kalender
END:VEVENT
BEGIN:VEVENT
DTSTART;TZID=Europe/Berlin:20260429T080000
DTEND;TZID=Europe/Berlin:20260429T090000
DTSTAMP:20260419T180821
CREATED:20260327T145232Z
LAST-MODIFIED:20260327T145232Z
UID:6210-1777449600-1777453200@pv-maria-ramersdorf-st-pius.de
SUMMARY:Hl. Messe in Maria Ramersdorf
DESCRIPTION:
URL:https://pv-maria-ramersdorf-st-pius.de/event/hl-messe-in-maria-ramersdorf-15/
LOCATION:Pfarrkirche München-Mariä Himmelfahrt (Maria Ramersdorf)\, Aribonenstr. 9\, München\, 81669\, Germany
CATEGORIES:Termine Pfarrei
END:VEVENT
BEGIN:VEVENT
DTSTART;TZID=Europe/Berlin:20260429T140000
DTEND;TZID=Europe/Berlin:20260429T150000
DTSTAMP:20260419T180821
CREATED:20260210T052834Z
LAST-MODIFIED:20260210T053732Z
UID:4879-1777471200-1777474800@pv-maria-ramersdorf-st-pius.de
SUMMARY:Seniorennachmittag
DESCRIPTION:Seniorennachmittag für und mit Senioren
URL:https://pv-maria-ramersdorf-st-pius.de/event/seniorennachmittag-4/
LOCATION:Pfarrheim/Jugendheim München-Maria Ramersdorf\, Uppenbornstraße 1\, München\, 81735\, Germany
CATEGORIES:Senioren
END:VEVENT
BEGIN:VEVENT
DTSTART;TZID=Europe/Berlin:20260429T140000
DTEND;TZID=Europe/Berlin:20260429T150000
DTSTAMP:20260419T180821
CREATED:20260327T145232Z
LAST-MODIFIED:20260327T145232Z
UID:6212-1777471200-1777474800@pv-maria-ramersdorf-st-pius.de
SUMMARY:Seniorennachmittag
DESCRIPTION:
URL:https://pv-maria-ramersdorf-st-pius.de/event/seniorennachmittag-11/
LOCATION:Pfarrheim/Jugendheim München-Maria Ramersdorf\, Aribonenstr. 7\, München\, 81669\, Germany
CATEGORIES:Termine Pfarrei
END:VEVENT
BEGIN:VEVENT
DTSTART;TZID=Europe/Berlin:20260429T173000
DTEND;TZID=Europe/Berlin:20260429T183000
DTSTAMP:20260419T180821
CREATED:20260327T145232Z
LAST-MODIFIED:20260327T145232Z
UID:6214-1777483800-1777487400@pv-maria-ramersdorf-st-pius.de
SUMMARY:Rosenkranz und Beichtgelegenheit
DESCRIPTION:
URL:https://pv-maria-ramersdorf-st-pius.de/event/rosenkranz-und-beichtgelegenheit-9/
LOCATION:Pfarrheim St. Pius\, Piusstr. 11\, München\, 81675\, Germany
CATEGORIES:Termine Pfarrei
END:VEVENT
BEGIN:VEVENT
DTSTART;TZID=Europe/Berlin:20260429T180000
DTEND;TZID=Europe/Berlin:20260429T190000
DTSTAMP:20260419T180821
CREATED:20260327T145232Z
LAST-MODIFIED:20260327T145233Z
UID:6216-1777485600-1777489200@pv-maria-ramersdorf-st-pius.de
SUMMARY:Hl. Amt in St. Pius
DESCRIPTION:
URL:https://pv-maria-ramersdorf-st-pius.de/event/hl-amt-in-st-pius-5/
LOCATION:Pfarrheim St. Pius\, Piusstr. 11\, München\, 81675\, Germany
CATEGORIES:Termine Pfarrei
END:VEVENT
END:VCALENDAR