BEGIN:VCALENDAR
VERSION:2.0
PRODID:-//Pfarrverband Maria Ramersdorf - St. Pius - ECPv6.15.20//NONSGML v1.0//EN
CALSCALE:GREGORIAN
METHOD:PUBLISH
X-WR-CALNAME:Pfarrverband Maria Ramersdorf - St. Pius
X-ORIGINAL-URL:https://pv-maria-ramersdorf-st-pius.de
X-WR-CALDESC:Veranstaltungen für Pfarrverband Maria Ramersdorf - St. Pius
REFRESH-INTERVAL;VALUE=DURATION:PT1H
X-Robots-Tag:noindex
X-PUBLISHED-TTL:PT1H
BEGIN:VTIMEZONE
TZID:Europe/Berlin
BEGIN:DAYLIGHT
TZOFFSETFROM:+0100
TZOFFSETTO:+0200
TZNAME:CEST
DTSTART:20250330T010000
END:DAYLIGHT
BEGIN:STANDARD
TZOFFSETFROM:+0200
TZOFFSETTO:+0100
TZNAME:CET
DTSTART:20251026T010000
END:STANDARD
BEGIN:DAYLIGHT
TZOFFSETFROM:+0100
TZOFFSETTO:+0200
TZNAME:CEST
DTSTART:20260329T010000
END:DAYLIGHT
BEGIN:STANDARD
TZOFFSETFROM:+0200
TZOFFSETTO:+0100
TZNAME:CET
DTSTART:20261025T010000
END:STANDARD
BEGIN:DAYLIGHT
TZOFFSETFROM:+0100
TZOFFSETTO:+0200
TZNAME:CEST
DTSTART:20270328T010000
END:DAYLIGHT
BEGIN:STANDARD
TZOFFSETFROM:+0200
TZOFFSETTO:+0100
TZNAME:CET
DTSTART:20271031T010000
END:STANDARD
END:VTIMEZONE
BEGIN:VEVENT
DTSTART;VALUE=DATE:20260502
DTEND;VALUE=DATE:20260503
DTSTAMP:20260419T180800
CREATED:20260117T093721Z
LAST-MODIFIED:20260117T093722Z
UID:519-1777680000-1777766399@pv-maria-ramersdorf-st-pius.de
SUMMARY:Hl. Athanasius\, Bischof von Alexandrien\, Kirchenlehrer (373) bzw. Bahnlesungen (Samstag der 4. Osterwoche)
DESCRIPTION:Tagesevangelium: Mt 10\, 22-25a bzw. Joh 14\, 7-14
URL:https://pv-maria-ramersdorf-st-pius.de/event/hl-athanasius-bischof-von-alexandrien-kirchenlehrer-373-bzw-bahnlesungen-samstag-der-4-osterwoche/
CATEGORIES:Liturgischer Kalender
END:VEVENT
BEGIN:VEVENT
DTSTART;TZID=Europe/Berlin:20260502T090000
DTEND;TZID=Europe/Berlin:20260502T100000
DTSTAMP:20260419T180800
CREATED:20260327T145235Z
LAST-MODIFIED:20260327T145235Z
UID:6230-1777712400-1777716000@pv-maria-ramersdorf-st-pius.de
SUMMARY:Hl. Messe zu Ehren der Gottesmutter (Zelebration am Gnadenaltar)
DESCRIPTION:
URL:https://pv-maria-ramersdorf-st-pius.de/event/hl-messe-zu-ehren-der-gottesmutter-zelebration-am-gnadenaltar-5/
LOCATION:Pfarrkirche München-Mariä Himmelfahrt (Maria Ramersdorf)\, Aribonenstr. 9\, München\, 81669\, Germany
CATEGORIES:Termine Pfarrei
END:VEVENT
BEGIN:VEVENT
DTSTART;TZID=Europe/Berlin:20260502T103000
DTEND;TZID=Europe/Berlin:20260502T113000
DTSTAMP:20260419T180800
CREATED:20260327T145235Z
LAST-MODIFIED:20260327T145235Z
UID:6232-1777717800-1777721400@pv-maria-ramersdorf-st-pius.de
SUMMARY:Hl. Messe im Altenheim St. Maria Ramersdorf
DESCRIPTION:
URL:https://pv-maria-ramersdorf-st-pius.de/event/hl-messe-im-altenheim-st-maria-ramersdorf-3/
LOCATION:Altenheim St. Maria Ramersdorf Kapelle\, St.-Martin-Str. 65\, München\, 81669\, Germany
CATEGORIES:Termine Pfarrei
END:VEVENT
BEGIN:VEVENT
DTSTART;TZID=Europe/Berlin:20260502T160000
DTEND;TZID=Europe/Berlin:20260502T170000
DTSTAMP:20260419T180800
CREATED:20260331T050511Z
LAST-MODIFIED:20260331T050641Z
UID:6253-1777737600-1777741200@pv-maria-ramersdorf-st-pius.de
SUMMARY:Peregrinatio fidei Beatae Mariae Virginis – Mit Maria auf dem Pilgerweg des Glaubens
DESCRIPTION:Treffen zu Gebet und Austausch mit Sr. Rossana Sollai SBA\, Schwestern der Schönen Liebe \nanschl. Kaminzimmer im Pfarrhaus zum Gebet und Austausch
URL:https://pv-maria-ramersdorf-st-pius.de/event/peregrinatio-fidei-beatae-mariae-virginis-mit-maria-auf-dem-pilgerweg-des-glaubens/
LOCATION:Pfarrkirche München-Mariä Himmelfahrt (Maria Ramersdorf)\, Aribonenstr. 9\, München\, 81669\, Germany
CATEGORIES:Peregrinatio fidei
END:VEVENT
BEGIN:VEVENT
DTSTART;TZID=Europe/Berlin:20260502T171500
DTEND;TZID=Europe/Berlin:20260502T181500
DTSTAMP:20260419T180800
CREATED:20260327T145235Z
LAST-MODIFIED:20260327T145236Z
UID:6234-1777742100-1777745700@pv-maria-ramersdorf-st-pius.de
SUMMARY:Rosenkranz und Beichtgelegenheit
DESCRIPTION:
URL:https://pv-maria-ramersdorf-st-pius.de/event/rosenkranz-und-beichtgelegenheit-11/
LOCATION:Pfarrkirche München-Mariä Himmelfahrt (Maria Ramersdorf)\, Aribonenstr. 9\, München\, 81669\, Germany
CATEGORIES:Termine Pfarrei
END:VEVENT
BEGIN:VEVENT
DTSTART;TZID=Europe/Berlin:20260502T180000
DTEND;TZID=Europe/Berlin:20260502T190000
DTSTAMP:20260419T180800
CREATED:20260327T145236Z
LAST-MODIFIED:20260327T145236Z
UID:6236-1777744800-1777748400@pv-maria-ramersdorf-st-pius.de
SUMMARY:Hl. Amt zum Vorabend\, anschließend Maiandacht
DESCRIPTION:
URL:https://pv-maria-ramersdorf-st-pius.de/event/hl-amt-zum-vorabend-anschliessend-maiandacht-2/
LOCATION:Pfarrkirche München-Mariä Himmelfahrt (Maria Ramersdorf)\, Aribonenstr. 9\, München\, 81669\, Germany
CATEGORIES:Termine Pfarrei
END:VEVENT
END:VCALENDAR