BEGIN:VCALENDAR
VERSION:2.0
PRODID:-//Pfarrverband Maria Ramersdorf - St. Pius - ECPv6.15.20//NONSGML v1.0//EN
CALSCALE:GREGORIAN
METHOD:PUBLISH
X-ORIGINAL-URL:https://pv-maria-ramersdorf-st-pius.de
X-WR-CALDESC:Veranstaltungen für Pfarrverband Maria Ramersdorf - St. Pius
REFRESH-INTERVAL;VALUE=DURATION:PT1H
X-Robots-Tag:noindex
X-PUBLISHED-TTL:PT1H
BEGIN:VTIMEZONE
TZID:Europe/Berlin
BEGIN:DAYLIGHT
TZOFFSETFROM:+0100
TZOFFSETTO:+0200
TZNAME:CEST
DTSTART:20250330T010000
END:DAYLIGHT
BEGIN:STANDARD
TZOFFSETFROM:+0200
TZOFFSETTO:+0100
TZNAME:CET
DTSTART:20251026T010000
END:STANDARD
BEGIN:DAYLIGHT
TZOFFSETFROM:+0100
TZOFFSETTO:+0200
TZNAME:CEST
DTSTART:20260329T010000
END:DAYLIGHT
BEGIN:STANDARD
TZOFFSETFROM:+0200
TZOFFSETTO:+0100
TZNAME:CET
DTSTART:20261025T010000
END:STANDARD
BEGIN:DAYLIGHT
TZOFFSETFROM:+0100
TZOFFSETTO:+0200
TZNAME:CEST
DTSTART:20270328T010000
END:DAYLIGHT
BEGIN:STANDARD
TZOFFSETFROM:+0200
TZOFFSETTO:+0100
TZNAME:CET
DTSTART:20271031T010000
END:STANDARD
END:VTIMEZONE
BEGIN:VEVENT
DTSTART;VALUE=DATE:20260512
DTEND;VALUE=DATE:20260513
DTSTAMP:20260419T195242
CREATED:20260117T093723Z
LAST-MODIFIED:20260117T093723Z
UID:539-1778544000-1778630399@pv-maria-ramersdorf-st-pius.de
SUMMARY:Hl. Nereus und hl. Achilleus\, Märtyrer (um 304) bzw. Hl. Pankratius\, Märtyrer (um 304) bzw. Dienstag der 6. Osterwoche
DESCRIPTION:Tagesevangelium: Mt 10\, 17-22 bzw. Mt 11\, 25-30 bzw. Joh 16\, 5-11
URL:https://pv-maria-ramersdorf-st-pius.de/event/hl-nereus-und-hl-achilleus-maertyrer-um-304-bzw-hl-pankratius-maertyrer-um-304-bzw-dienstag-der-6-osterwoche/
CATEGORIES:Liturgischer Kalender
END:VEVENT
END:VCALENDAR