BEGIN:VCALENDAR
VERSION:2.0
PRODID:-//Pfarrverband Maria Ramersdorf - St. Pius - ECPv6.15.20//NONSGML v1.0//EN
CALSCALE:GREGORIAN
METHOD:PUBLISH
X-ORIGINAL-URL:https://pv-maria-ramersdorf-st-pius.de
X-WR-CALDESC:Veranstaltungen für Pfarrverband Maria Ramersdorf - St. Pius
REFRESH-INTERVAL;VALUE=DURATION:PT1H
X-Robots-Tag:noindex
X-PUBLISHED-TTL:PT1H
BEGIN:VTIMEZONE
TZID:Europe/Berlin
BEGIN:DAYLIGHT
TZOFFSETFROM:+0100
TZOFFSETTO:+0200
TZNAME:CEST
DTSTART:20250330T010000
END:DAYLIGHT
BEGIN:STANDARD
TZOFFSETFROM:+0200
TZOFFSETTO:+0100
TZNAME:CET
DTSTART:20251026T010000
END:STANDARD
BEGIN:DAYLIGHT
TZOFFSETFROM:+0100
TZOFFSETTO:+0200
TZNAME:CEST
DTSTART:20260329T010000
END:DAYLIGHT
BEGIN:STANDARD
TZOFFSETFROM:+0200
TZOFFSETTO:+0100
TZNAME:CET
DTSTART:20261025T010000
END:STANDARD
BEGIN:DAYLIGHT
TZOFFSETFROM:+0100
TZOFFSETTO:+0200
TZNAME:CEST
DTSTART:20270328T010000
END:DAYLIGHT
BEGIN:STANDARD
TZOFFSETFROM:+0200
TZOFFSETTO:+0100
TZNAME:CET
DTSTART:20271031T010000
END:STANDARD
END:VTIMEZONE
BEGIN:VEVENT
DTSTART;VALUE=DATE:20260703
DTEND;VALUE=DATE:20260704
DTSTAMP:20260421T123033
CREATED:20260117T093733Z
LAST-MODIFIED:20260117T093733Z
UID:643-1783036800-1783123199@pv-maria-ramersdorf-st-pius.de
SUMMARY:Hl. Thomas\, Apostel
DESCRIPTION:Tagesevangelium: Joh 20\, 24-29
URL:https://pv-maria-ramersdorf-st-pius.de/event/hl-thomas-apostel/
CATEGORIES:Liturgischer Kalender
END:VEVENT
BEGIN:VEVENT
DTSTART;TZID=Europe/Berlin:20260703T190000
DTEND;TZID=Europe/Berlin:20260703T233000
DTSTAMP:20260421T123033
CREATED:20260208T135816Z
LAST-MODIFIED:20260408T104307Z
UID:4786-1783105200-1783121400@pv-maria-ramersdorf-st-pius.de
SUMMARY:Männertreff
DESCRIPTION:
URL:https://pv-maria-ramersdorf-st-pius.de/event/maennertreff-6/
LOCATION:Pfarrhaus Maria Ramersdorf\, Kaminzimmer\, Ramersdorfer Str. 6\, München\, 81669\, Germany
CATEGORIES:Männertreff
END:VEVENT
END:VCALENDAR