BEGIN:VCALENDAR
VERSION:2.0
PRODID:-//Pfarrverband Maria Ramersdorf - St. Pius - ECPv6.15.20//NONSGML v1.0//EN
CALSCALE:GREGORIAN
METHOD:PUBLISH
X-ORIGINAL-URL:https://pv-maria-ramersdorf-st-pius.de
X-WR-CALDESC:Veranstaltungen für Pfarrverband Maria Ramersdorf - St. Pius
REFRESH-INTERVAL;VALUE=DURATION:PT1H
X-Robots-Tag:noindex
X-PUBLISHED-TTL:PT1H
BEGIN:VTIMEZONE
TZID:Europe/Berlin
BEGIN:DAYLIGHT
TZOFFSETFROM:+0100
TZOFFSETTO:+0200
TZNAME:CEST
DTSTART:20250330T010000
END:DAYLIGHT
BEGIN:STANDARD
TZOFFSETFROM:+0200
TZOFFSETTO:+0100
TZNAME:CET
DTSTART:20251026T010000
END:STANDARD
BEGIN:DAYLIGHT
TZOFFSETFROM:+0100
TZOFFSETTO:+0200
TZNAME:CEST
DTSTART:20260329T010000
END:DAYLIGHT
BEGIN:STANDARD
TZOFFSETFROM:+0200
TZOFFSETTO:+0100
TZNAME:CET
DTSTART:20261025T010000
END:STANDARD
BEGIN:DAYLIGHT
TZOFFSETFROM:+0100
TZOFFSETTO:+0200
TZNAME:CEST
DTSTART:20270328T010000
END:DAYLIGHT
BEGIN:STANDARD
TZOFFSETFROM:+0200
TZOFFSETTO:+0100
TZNAME:CET
DTSTART:20271031T010000
END:STANDARD
END:VTIMEZONE
BEGIN:VEVENT
DTSTART;VALUE=DATE:20260916
DTEND;VALUE=DATE:20260917
DTSTAMP:20260420T034415
CREATED:20260117T093756Z
LAST-MODIFIED:20260117T093758Z
UID:925-1789516800-1789603199@pv-maria-ramersdorf-st-pius.de
SUMMARY:Hl. Kornelius\, Papst (253)\, und Cyprian\, Bischof von Karthago\, Märtyrer (258) bzw. Bahnlesungen (Mittwoch der 24. Woche im Jahreskreis)
DESCRIPTION:Tagesevangelium: Joh 17\, 6a.11b-19 bzw. Lk 7\, 31-35
URL:https://pv-maria-ramersdorf-st-pius.de/event/hl-kornelius-papst-253-und-cyprian-bischof-von-karthago-maertyrer-258-bzw-bahnlesungen-mittwoch-der-24-woche-im-jahreskreis-3/
CATEGORIES:Liturgischer Kalender
END:VEVENT
END:VCALENDAR