BEGIN:VCALENDAR
VERSION:2.0
PRODID:-//Pfarrverband Maria Ramersdorf - St. Pius - ECPv6.15.20//NONSGML v1.0//EN
CALSCALE:GREGORIAN
METHOD:PUBLISH
X-WR-CALNAME:Pfarrverband Maria Ramersdorf - St. Pius
X-ORIGINAL-URL:https://pv-maria-ramersdorf-st-pius.de
X-WR-CALDESC:Veranstaltungen für Pfarrverband Maria Ramersdorf - St. Pius
REFRESH-INTERVAL;VALUE=DURATION:PT1H
X-Robots-Tag:noindex
X-PUBLISHED-TTL:PT1H
BEGIN:VTIMEZONE
TZID:Europe/Berlin
BEGIN:DAYLIGHT
TZOFFSETFROM:+0100
TZOFFSETTO:+0200
TZNAME:CEST
DTSTART:20250330T010000
END:DAYLIGHT
BEGIN:STANDARD
TZOFFSETFROM:+0200
TZOFFSETTO:+0100
TZNAME:CET
DTSTART:20251026T010000
END:STANDARD
BEGIN:DAYLIGHT
TZOFFSETFROM:+0100
TZOFFSETTO:+0200
TZNAME:CEST
DTSTART:20260329T010000
END:DAYLIGHT
BEGIN:STANDARD
TZOFFSETFROM:+0200
TZOFFSETTO:+0100
TZNAME:CET
DTSTART:20261025T010000
END:STANDARD
BEGIN:DAYLIGHT
TZOFFSETFROM:+0100
TZOFFSETTO:+0200
TZNAME:CEST
DTSTART:20270328T010000
END:DAYLIGHT
BEGIN:STANDARD
TZOFFSETFROM:+0200
TZOFFSETTO:+0100
TZNAME:CET
DTSTART:20271031T010000
END:STANDARD
END:VTIMEZONE
BEGIN:VEVENT
DTSTART;VALUE=DATE:20260922
DTEND;VALUE=DATE:20260923
DTSTAMP:20260420T034138
CREATED:20260117T093804Z
LAST-MODIFIED:20260117T093805Z
UID:1006-1790035200-1790121599@pv-maria-ramersdorf-st-pius.de
SUMMARY:Hl. Emmeram\, Bischof\, Glaubensbote\, Märtyrer bzw. Hl. Mauritius und Gefährten\, Märtyrer der Thebäischen Legion (280-305) bzw. Dienstag der 25. Woche im Jahreskreis
DESCRIPTION:Tagesevangelium: Mt 10\, 28-33 bzw. Lk 8\, 19-21
URL:https://pv-maria-ramersdorf-st-pius.de/event/hl-emmeram-bischof-glaubensbote-maertyrer-bzw-hl-mauritius-und-gefaehrten-maertyrer-der-thebaeischen-legion-280-305-bzw-dienstag-der-25-woche-im-jahreskreis/
CATEGORIES:Liturgischer Kalender
END:VEVENT
END:VCALENDAR