BEGIN:VCALENDAR
VERSION:2.0
PRODID:-//Pfarrverband Maria Ramersdorf - St. Pius - ECPv6.15.20//NONSGML v1.0//EN
CALSCALE:GREGORIAN
METHOD:PUBLISH
X-ORIGINAL-URL:https://pv-maria-ramersdorf-st-pius.de
X-WR-CALDESC:Veranstaltungen für Pfarrverband Maria Ramersdorf - St. Pius
REFRESH-INTERVAL;VALUE=DURATION:PT1H
X-Robots-Tag:noindex
X-PUBLISHED-TTL:PT1H
BEGIN:VTIMEZONE
TZID:Europe/Berlin
BEGIN:DAYLIGHT
TZOFFSETFROM:+0100
TZOFFSETTO:+0200
TZNAME:CEST
DTSTART:20250330T010000
END:DAYLIGHT
BEGIN:STANDARD
TZOFFSETFROM:+0200
TZOFFSETTO:+0100
TZNAME:CET
DTSTART:20251026T010000
END:STANDARD
BEGIN:DAYLIGHT
TZOFFSETFROM:+0100
TZOFFSETTO:+0200
TZNAME:CEST
DTSTART:20260329T010000
END:DAYLIGHT
BEGIN:STANDARD
TZOFFSETFROM:+0200
TZOFFSETTO:+0100
TZNAME:CET
DTSTART:20261025T010000
END:STANDARD
BEGIN:DAYLIGHT
TZOFFSETFROM:+0100
TZOFFSETTO:+0200
TZNAME:CEST
DTSTART:20270328T010000
END:DAYLIGHT
BEGIN:STANDARD
TZOFFSETFROM:+0200
TZOFFSETTO:+0100
TZNAME:CET
DTSTART:20271031T010000
END:STANDARD
END:VTIMEZONE
BEGIN:VEVENT
DTSTART;VALUE=DATE:20261009
DTEND;VALUE=DATE:20261010
DTSTAMP:20260420T052217
CREATED:20260321T103054Z
LAST-MODIFIED:20260321T103054Z
UID:5852-1791504000-1791590399@pv-maria-ramersdorf-st-pius.de
SUMMARY:Hl. Dionysius\, Bischof von Paris\, und Gefährten\, Märtyrer (nach 250) bzw. Hl. Johannes Leonardi\, Priester\, Ordensgründer (1609) bzw. Hl. John Henry Newman\, Priester und Kirchenlehrer (1801-1890) bzw. Freitag der 27. Woche im Jahreskreis
DESCRIPTION:Tagesevangelium: Mt 5\, 13-16 bzw. Lk 5\, 1-11 bzw. Mt 13\, 47-52 bzw. Lk 11\, 14-26
URL:https://pv-maria-ramersdorf-st-pius.de/event/hl-dionysius-bischof-von-paris-und-gefaehrten-maertyrer-nach-250-bzw-hl-johannes-leonardi-priester-ordensgruender-1609-bzw-hl-john-henry-newman-priester-und-kirchenlehrer-1801-1890-bz/
CATEGORIES:Liturgischer Kalender
END:VEVENT
END:VCALENDAR