BEGIN:VCALENDAR
VERSION:2.0
PRODID:-//Pfarrverband Maria Ramersdorf - St. Pius - ECPv6.15.20//NONSGML v1.0//EN
CALSCALE:GREGORIAN
METHOD:PUBLISH
X-WR-CALNAME:Pfarrverband Maria Ramersdorf - St. Pius
X-ORIGINAL-URL:https://pv-maria-ramersdorf-st-pius.de
X-WR-CALDESC:Veranstaltungen für Pfarrverband Maria Ramersdorf - St. Pius
REFRESH-INTERVAL;VALUE=DURATION:PT1H
X-Robots-Tag:noindex
X-PUBLISHED-TTL:PT1H
BEGIN:VTIMEZONE
TZID:Europe/Berlin
BEGIN:DAYLIGHT
TZOFFSETFROM:+0100
TZOFFSETTO:+0200
TZNAME:CEST
DTSTART:20250330T010000
END:DAYLIGHT
BEGIN:STANDARD
TZOFFSETFROM:+0200
TZOFFSETTO:+0100
TZNAME:CET
DTSTART:20251026T010000
END:STANDARD
BEGIN:DAYLIGHT
TZOFFSETFROM:+0100
TZOFFSETTO:+0200
TZNAME:CEST
DTSTART:20260329T010000
END:DAYLIGHT
BEGIN:STANDARD
TZOFFSETFROM:+0200
TZOFFSETTO:+0100
TZNAME:CET
DTSTART:20261025T010000
END:STANDARD
BEGIN:DAYLIGHT
TZOFFSETFROM:+0100
TZOFFSETTO:+0200
TZNAME:CEST
DTSTART:20270328T010000
END:DAYLIGHT
BEGIN:STANDARD
TZOFFSETFROM:+0200
TZOFFSETTO:+0100
TZNAME:CET
DTSTART:20271031T010000
END:STANDARD
END:VTIMEZONE
BEGIN:VEVENT
DTSTART;VALUE=DATE:20261013
DTEND;VALUE=DATE:20261014
DTSTAMP:20260420T053520
CREATED:20260117T093813Z
LAST-MODIFIED:20260117T093813Z
UID:1079-1791849600-1791935999@pv-maria-ramersdorf-st-pius.de
SUMMARY:Hl. Margareta Maria Alacoque\, Ordensfrau bzw. Dienstag der 28. Woche im Jahreskreis
DESCRIPTION:(im Generalkalender am 16. Oktober)\,  \nTagesevangelium: Lk 11\, 37-41
URL:https://pv-maria-ramersdorf-st-pius.de/event/hl-margareta-maria-alacoque-ordensfrau-bzw-dienstag-der-28-woche-im-jahreskreis/
CATEGORIES:Liturgischer Kalender
END:VEVENT
END:VCALENDAR