BEGIN:VCALENDAR
VERSION:2.0
PRODID:-//Pfarrverband Maria Ramersdorf - St. Pius - ECPv6.15.20//NONSGML v1.0//EN
CALSCALE:GREGORIAN
METHOD:PUBLISH
X-ORIGINAL-URL:https://pv-maria-ramersdorf-st-pius.de
X-WR-CALDESC:Veranstaltungen für Pfarrverband Maria Ramersdorf - St. Pius
REFRESH-INTERVAL;VALUE=DURATION:PT1H
X-Robots-Tag:noindex
X-PUBLISHED-TTL:PT1H
BEGIN:VTIMEZONE
TZID:Europe/Berlin
BEGIN:DAYLIGHT
TZOFFSETFROM:+0100
TZOFFSETTO:+0200
TZNAME:CEST
DTSTART:20250330T010000
END:DAYLIGHT
BEGIN:STANDARD
TZOFFSETFROM:+0200
TZOFFSETTO:+0100
TZNAME:CET
DTSTART:20251026T010000
END:STANDARD
BEGIN:DAYLIGHT
TZOFFSETFROM:+0100
TZOFFSETTO:+0200
TZNAME:CEST
DTSTART:20260329T010000
END:DAYLIGHT
BEGIN:STANDARD
TZOFFSETFROM:+0200
TZOFFSETTO:+0100
TZNAME:CET
DTSTART:20261025T010000
END:STANDARD
BEGIN:DAYLIGHT
TZOFFSETFROM:+0100
TZOFFSETTO:+0200
TZNAME:CEST
DTSTART:20270328T010000
END:DAYLIGHT
BEGIN:STANDARD
TZOFFSETFROM:+0200
TZOFFSETTO:+0100
TZNAME:CET
DTSTART:20271031T010000
END:STANDARD
END:VTIMEZONE
BEGIN:VEVENT
DTSTART;VALUE=DATE:20261019
DTEND;VALUE=DATE:20261020
DTSTAMP:20260420T053541
CREATED:20260117T093814Z
LAST-MODIFIED:20260117T093814Z
UID:1091-1792368000-1792454399@pv-maria-ramersdorf-st-pius.de
SUMMARY:Hl. Johannes de Brébeuf\, Isaak Jogues\, Priester\, und Gefährten\, Märtyrer in Nordamerika (1642-1649) bzw. Hl. Paul vom Kreuz\, Priester\, Ordensgründer (1775) bzw. Montag der 29. Woche im Jahreskreis
DESCRIPTION:Tagesevangelium: Mt 28\, 16-20 bzw. Mt 16\, 24-27 bzw. Lk 12\, 13-21
URL:https://pv-maria-ramersdorf-st-pius.de/event/hl-johannes-de-brebeuf-isaak-jogues-priester-und-gefaehrten-maertyrer-in-nordamerika-1642-1649-bzw-hl-paul-vom-kreuz-priester-ordensgruender-1775-bzw-montag-der-29-woche-im-jahreskreis/
CATEGORIES:Liturgischer Kalender
END:VEVENT
END:VCALENDAR