BEGIN:VCALENDAR
VERSION:2.0
PRODID:-//Pfarrverband Maria Ramersdorf - St. Pius - ECPv6.15.20//NONSGML v1.0//EN
CALSCALE:GREGORIAN
METHOD:PUBLISH
X-ORIGINAL-URL:https://pv-maria-ramersdorf-st-pius.de
X-WR-CALDESC:Veranstaltungen für Pfarrverband Maria Ramersdorf - St. Pius
REFRESH-INTERVAL;VALUE=DURATION:PT1H
X-Robots-Tag:noindex
X-PUBLISHED-TTL:PT1H
BEGIN:VTIMEZONE
TZID:Europe/Berlin
BEGIN:DAYLIGHT
TZOFFSETFROM:+0100
TZOFFSETTO:+0200
TZNAME:CEST
DTSTART:20250330T010000
END:DAYLIGHT
BEGIN:STANDARD
TZOFFSETFROM:+0200
TZOFFSETTO:+0100
TZNAME:CET
DTSTART:20251026T010000
END:STANDARD
BEGIN:DAYLIGHT
TZOFFSETFROM:+0100
TZOFFSETTO:+0200
TZNAME:CEST
DTSTART:20260329T010000
END:DAYLIGHT
BEGIN:STANDARD
TZOFFSETFROM:+0200
TZOFFSETTO:+0100
TZNAME:CET
DTSTART:20261025T010000
END:STANDARD
BEGIN:DAYLIGHT
TZOFFSETFROM:+0100
TZOFFSETTO:+0200
TZNAME:CEST
DTSTART:20270328T010000
END:DAYLIGHT
BEGIN:STANDARD
TZOFFSETFROM:+0200
TZOFFSETTO:+0100
TZNAME:CET
DTSTART:20271031T010000
END:STANDARD
END:VTIMEZONE
BEGIN:VEVENT
DTSTART;VALUE=DATE:20261104
DTEND;VALUE=DATE:20261105
DTSTAMP:20260420T070316
CREATED:20260117T093816Z
LAST-MODIFIED:20260117T093817Z
UID:1123-1793750400-1793836799@pv-maria-ramersdorf-st-pius.de
SUMMARY:Hl. Karl Borromäus\, Bischof von Mailand (1584) bzw. Bahnlesungen (Mittwoch der 31. Woche im Jahreskreis)
DESCRIPTION:Tagesevangelium: Joh 10\, 11-16 bzw. Lk 14\, 25-33
URL:https://pv-maria-ramersdorf-st-pius.de/event/hl-karl-borromaeus-bischof-von-mailand-1584-bzw-bahnlesungen-mittwoch-der-31-woche-im-jahreskreis/
CATEGORIES:Liturgischer Kalender
END:VEVENT
BEGIN:VEVENT
DTSTART;TZID=Europe/Berlin:20261104T140000
DTEND;TZID=Europe/Berlin:20261104T150000
DTSTAMP:20260420T070316
CREATED:20260210T053417Z
LAST-MODIFIED:20260210T053734Z
UID:4893-1793800800-1793804400@pv-maria-ramersdorf-st-pius.de
SUMMARY:Spielenachmittag
DESCRIPTION:Spielenachmittag für und mit Senioren
URL:https://pv-maria-ramersdorf-st-pius.de/event/spielenachmittag-3/
LOCATION:Pfarrheim St. Pius\, Piusstr. 11\, München\, 81675\, Germany
CATEGORIES:Senioren
END:VEVENT
END:VCALENDAR