BEGIN:VCALENDAR
VERSION:2.0
PRODID:-//Pfarrverband Maria Ramersdorf - St. Pius - ECPv6.15.20//NONSGML v1.0//EN
CALSCALE:GREGORIAN
METHOD:PUBLISH
X-ORIGINAL-URL:https://pv-maria-ramersdorf-st-pius.de
X-WR-CALDESC:Veranstaltungen für Pfarrverband Maria Ramersdorf - St. Pius
REFRESH-INTERVAL;VALUE=DURATION:PT1H
X-Robots-Tag:noindex
X-PUBLISHED-TTL:PT1H
BEGIN:VTIMEZONE
TZID:Europe/Berlin
BEGIN:DAYLIGHT
TZOFFSETFROM:+0100
TZOFFSETTO:+0200
TZNAME:CEST
DTSTART:20250330T010000
END:DAYLIGHT
BEGIN:STANDARD
TZOFFSETFROM:+0200
TZOFFSETTO:+0100
TZNAME:CET
DTSTART:20251026T010000
END:STANDARD
BEGIN:DAYLIGHT
TZOFFSETFROM:+0100
TZOFFSETTO:+0200
TZNAME:CEST
DTSTART:20260329T010000
END:DAYLIGHT
BEGIN:STANDARD
TZOFFSETFROM:+0200
TZOFFSETTO:+0100
TZNAME:CET
DTSTART:20261025T010000
END:STANDARD
BEGIN:DAYLIGHT
TZOFFSETFROM:+0100
TZOFFSETTO:+0200
TZNAME:CEST
DTSTART:20270328T010000
END:DAYLIGHT
BEGIN:STANDARD
TZOFFSETFROM:+0200
TZOFFSETTO:+0100
TZNAME:CET
DTSTART:20271031T010000
END:STANDARD
END:VTIMEZONE
BEGIN:VEVENT
DTSTART;VALUE=DATE:20261204
DTEND;VALUE=DATE:20261205
DTSTAMP:20260420T065801
CREATED:20260117T093821Z
LAST-MODIFIED:20260117T093821Z
UID:1183-1796342400-1796428799@pv-maria-ramersdorf-st-pius.de
SUMMARY:Adolph Kolping\, Priester (1813-1865) bzw. Hl. Barbara\, Märtyrin in Nikomedien (306) bzw. Hl. Johannes von Damaskus\, Priester\, Kirchenlehrer (um 750) bzw. Freitag der 1. Woche im Advent
DESCRIPTION:Tagesevangelium: Mt 5\,13-16 oder Mt 25\,14-23 bzw. Mt 10\, 34-39 bzw. Mt 25\, 14-30 bzw. Mt 9\, 27-31
URL:https://pv-maria-ramersdorf-st-pius.de/event/adolph-kolping-priester-1813-1865-bzw-hl-barbara-maertyrin-in-nikomedien-306-bzw-hl-johannes-von-damaskus-priester-kirchenlehrer-um-750-bzw-freitag-der-1-woche-im-advent/
CATEGORIES:Liturgischer Kalender
END:VEVENT
BEGIN:VEVENT
DTSTART;TZID=Europe/Berlin:20261204T190000
DTEND;TZID=Europe/Berlin:20261204T233000
DTSTAMP:20260420T065801
CREATED:20260208T140010Z
LAST-MODIFIED:20260408T104307Z
UID:4791-1796410800-1796427000@pv-maria-ramersdorf-st-pius.de
SUMMARY:Männertreff
DESCRIPTION:
URL:https://pv-maria-ramersdorf-st-pius.de/event/maennertreff-11/
LOCATION:Pfarrhaus Maria Ramersdorf\, Kaminzimmer\, Ramersdorfer Str. 6\, München\, 81669\, Germany
CATEGORIES:Männertreff
END:VEVENT
END:VCALENDAR