BEGIN:VCALENDAR
VERSION:2.0
PRODID:-//Pfarrverband Maria Ramersdorf - St. Pius - ECPv6.15.20//NONSGML v1.0//EN
CALSCALE:GREGORIAN
METHOD:PUBLISH
X-WR-CALNAME:Pfarrverband Maria Ramersdorf - St. Pius
X-ORIGINAL-URL:https://pv-maria-ramersdorf-st-pius.de
X-WR-CALDESC:Veranstaltungen für Pfarrverband Maria Ramersdorf - St. Pius
REFRESH-INTERVAL;VALUE=DURATION:PT1H
X-Robots-Tag:noindex
X-PUBLISHED-TTL:PT1H
BEGIN:VTIMEZONE
TZID:Europe/Berlin
BEGIN:DAYLIGHT
TZOFFSETFROM:+0100
TZOFFSETTO:+0200
TZNAME:CEST
DTSTART:20250330T010000
END:DAYLIGHT
BEGIN:STANDARD
TZOFFSETFROM:+0200
TZOFFSETTO:+0100
TZNAME:CET
DTSTART:20251026T010000
END:STANDARD
BEGIN:DAYLIGHT
TZOFFSETFROM:+0100
TZOFFSETTO:+0200
TZNAME:CEST
DTSTART:20260329T010000
END:DAYLIGHT
BEGIN:STANDARD
TZOFFSETFROM:+0200
TZOFFSETTO:+0100
TZNAME:CET
DTSTART:20261025T010000
END:STANDARD
BEGIN:DAYLIGHT
TZOFFSETFROM:+0100
TZOFFSETTO:+0200
TZNAME:CEST
DTSTART:20270328T010000
END:DAYLIGHT
BEGIN:STANDARD
TZOFFSETFROM:+0200
TZOFFSETTO:+0100
TZNAME:CET
DTSTART:20271031T010000
END:STANDARD
END:VTIMEZONE
BEGIN:VEVENT
DTSTART;VALUE=DATE:20261216
DTEND;VALUE=DATE:20261217
DTSTAMP:20260420T085413
CREATED:20260117T093823Z
LAST-MODIFIED:20260117T093823Z
UID:1207-1797379200-1797465599@pv-maria-ramersdorf-st-pius.de
SUMMARY:Hl. Sturmius\, Abt bzw. Mittwoch der 3. Woche im Advent
DESCRIPTION:Tagesevangelium: Lk 7\, 18b-23
URL:https://pv-maria-ramersdorf-st-pius.de/event/hl-sturmius-abt-bzw-mittwoch-der-3-woche-im-advent/
CATEGORIES:Liturgischer Kalender
END:VEVENT
BEGIN:VEVENT
DTSTART;TZID=Europe/Berlin:20261216T140000
DTEND;TZID=Europe/Berlin:20261216T150000
DTSTAMP:20260420T085413
CREATED:20260210T053624Z
LAST-MODIFIED:20260210T053735Z
UID:4901-1797429600-1797433200@pv-maria-ramersdorf-st-pius.de
SUMMARY:Gemeinsame Adventsfeier
DESCRIPTION:
URL:https://pv-maria-ramersdorf-st-pius.de/event/gemeinsame-adventsfeier/
LOCATION:Pfarrheim/Jugendheim München-Maria Ramersdorf\, Aribonenstr. 7\, München\, 81669\, Germany
CATEGORIES:Senioren
END:VEVENT
END:VCALENDAR