BEGIN:VCALENDAR
VERSION:2.0
PRODID:-//Pfarrverband Maria Ramersdorf - St. Pius - ECPv6.15.20//NONSGML v1.0//EN
CALSCALE:GREGORIAN
METHOD:PUBLISH
X-WR-CALNAME:Pfarrverband Maria Ramersdorf - St. Pius
X-ORIGINAL-URL:https://pv-maria-ramersdorf-st-pius.de
X-WR-CALDESC:Veranstaltungen für Pfarrverband Maria Ramersdorf - St. Pius
REFRESH-INTERVAL;VALUE=DURATION:PT1H
X-Robots-Tag:noindex
X-PUBLISHED-TTL:PT1H
BEGIN:VTIMEZONE
TZID:Europe/Berlin
BEGIN:DAYLIGHT
TZOFFSETFROM:+0100
TZOFFSETTO:+0200
TZNAME:CEST
DTSTART:20260329T010000
END:DAYLIGHT
BEGIN:STANDARD
TZOFFSETFROM:+0200
TZOFFSETTO:+0100
TZNAME:CET
DTSTART:20261025T010000
END:STANDARD
BEGIN:DAYLIGHT
TZOFFSETFROM:+0100
TZOFFSETTO:+0200
TZNAME:CEST
DTSTART:20270328T010000
END:DAYLIGHT
BEGIN:STANDARD
TZOFFSETFROM:+0200
TZOFFSETTO:+0100
TZNAME:CET
DTSTART:20271031T010000
END:STANDARD
BEGIN:DAYLIGHT
TZOFFSETFROM:+0100
TZOFFSETTO:+0200
TZNAME:CEST
DTSTART:20280326T010000
END:DAYLIGHT
BEGIN:STANDARD
TZOFFSETFROM:+0200
TZOFFSETTO:+0100
TZNAME:CET
DTSTART:20281029T010000
END:STANDARD
END:VTIMEZONE
BEGIN:VEVENT
DTSTART;VALUE=DATE:20270121
DTEND;VALUE=DATE:20270122
DTSTAMP:20260422T105549
CREATED:20260117T093842Z
LAST-MODIFIED:20260117T093842Z
UID:1279-1800489600-1800575999@pv-maria-ramersdorf-st-pius.de
SUMMARY:Hl. Agnes\, Jungfrau\, Märtyrin in Rom (304) bzw. Hl. Meinrad\, Mönch auf der Reichenau. Einsiedler\, Märtyrer (861) bzw. Donnerstag der 2. Woche im Jahreskreis
DESCRIPTION:Tagesevangelium: Mt 13\, 44-46 bzw. Mt 16\, 24-27 bzw. Mk 3\, 7-12
URL:https://pv-maria-ramersdorf-st-pius.de/event/hl-agnes-jungfrau-maertyrin-in-rom-304-bzw-hl-meinrad-moench-auf-der-reichenau-einsiedler-maertyrer-861-bzw-donnerstag-der-2-woche-im-jahreskreis/
CATEGORIES:Liturgischer Kalender
END:VEVENT
END:VCALENDAR