BEGIN:VCALENDAR
VERSION:2.0
PRODID:-//Pfarrverband Maria Ramersdorf - St. Pius - ECPv6.15.20//NONSGML v1.0//EN
CALSCALE:GREGORIAN
METHOD:PUBLISH
X-ORIGINAL-URL:https://pv-maria-ramersdorf-st-pius.de
X-WR-CALDESC:Veranstaltungen für Pfarrverband Maria Ramersdorf - St. Pius
REFRESH-INTERVAL;VALUE=DURATION:PT1H
X-Robots-Tag:noindex
X-PUBLISHED-TTL:PT1H
BEGIN:VTIMEZONE
TZID:Europe/Berlin
BEGIN:DAYLIGHT
TZOFFSETFROM:+0100
TZOFFSETTO:+0200
TZNAME:CEST
DTSTART:20260329T010000
END:DAYLIGHT
BEGIN:STANDARD
TZOFFSETFROM:+0200
TZOFFSETTO:+0100
TZNAME:CET
DTSTART:20261025T010000
END:STANDARD
BEGIN:DAYLIGHT
TZOFFSETFROM:+0100
TZOFFSETTO:+0200
TZNAME:CEST
DTSTART:20270328T010000
END:DAYLIGHT
BEGIN:STANDARD
TZOFFSETFROM:+0200
TZOFFSETTO:+0100
TZNAME:CET
DTSTART:20271031T010000
END:STANDARD
BEGIN:DAYLIGHT
TZOFFSETFROM:+0100
TZOFFSETTO:+0200
TZNAME:CEST
DTSTART:20280326T010000
END:DAYLIGHT
BEGIN:STANDARD
TZOFFSETFROM:+0200
TZOFFSETTO:+0100
TZNAME:CET
DTSTART:20281029T010000
END:STANDARD
END:VTIMEZONE
BEGIN:VEVENT
DTSTART;VALUE=DATE:20270419
DTEND;VALUE=DATE:20270420
DTSTAMP:20260422T153603
CREATED:20260117T093924Z
LAST-MODIFIED:20260117T093925Z
UID:1622-1808092800-1808179199@pv-maria-ramersdorf-st-pius.de
SUMMARY:Hl. Leo IX.\, Papst (1054) bzw. Marcel Callo\, Märtyrer bzw. Montag der 4. Osterwoche
DESCRIPTION:Tagesevangelium: Joh 15\, 9-17 bzw. Mt 10\, 28-33 bzw. Joh 10\, 1-10
URL:https://pv-maria-ramersdorf-st-pius.de/event/hl-leo-ix-papst-1054-bzw-marcel-callo-maertyrer-bzw-montag-der-4-osterwoche-2/
CATEGORIES:Liturgischer Kalender
END:VEVENT
END:VCALENDAR