BEGIN:VCALENDAR
VERSION:2.0
PRODID:-//Pfarrverband Maria Ramersdorf - St. Pius - ECPv6.15.20//NONSGML v1.0//EN
CALSCALE:GREGORIAN
METHOD:PUBLISH
X-WR-CALNAME:Pfarrverband Maria Ramersdorf - St. Pius
X-ORIGINAL-URL:https://pv-maria-ramersdorf-st-pius.de
X-WR-CALDESC:Veranstaltungen für Pfarrverband Maria Ramersdorf - St. Pius
REFRESH-INTERVAL;VALUE=DURATION:PT1H
X-Robots-Tag:noindex
X-PUBLISHED-TTL:PT1H
BEGIN:VTIMEZONE
TZID:Europe/Berlin
BEGIN:DAYLIGHT
TZOFFSETFROM:+0100
TZOFFSETTO:+0200
TZNAME:CEST
DTSTART:20260329T010000
END:DAYLIGHT
BEGIN:STANDARD
TZOFFSETFROM:+0200
TZOFFSETTO:+0100
TZNAME:CET
DTSTART:20261025T010000
END:STANDARD
BEGIN:DAYLIGHT
TZOFFSETFROM:+0100
TZOFFSETTO:+0200
TZNAME:CEST
DTSTART:20270328T010000
END:DAYLIGHT
BEGIN:STANDARD
TZOFFSETFROM:+0200
TZOFFSETTO:+0100
TZNAME:CET
DTSTART:20271031T010000
END:STANDARD
BEGIN:DAYLIGHT
TZOFFSETFROM:+0100
TZOFFSETTO:+0200
TZNAME:CEST
DTSTART:20280326T010000
END:DAYLIGHT
BEGIN:STANDARD
TZOFFSETFROM:+0200
TZOFFSETTO:+0100
TZNAME:CET
DTSTART:20281029T010000
END:STANDARD
END:VTIMEZONE
BEGIN:VEVENT
DTSTART;VALUE=DATE:20270423
DTEND;VALUE=DATE:20270424
DTSTAMP:20260422T153342
CREATED:20260117T093928Z
LAST-MODIFIED:20260117T093929Z
UID:1749-1808438400-1808524799@pv-maria-ramersdorf-st-pius.de
SUMMARY:Hl. Adalbert\, Bischof von Prag\, Glaubensbote bei den Preußen\, Märtyrer (997) bzw. Hl. Georg\, Märtyrer in Kappadozien (4. Jh.) bzw. Freitag der 4. Osterwoche
DESCRIPTION:Tagesevangelium: Joh 12\, 24-26 bzw. Joh 15\, 1-8 bzw. Joh 14\, 1-6
URL:https://pv-maria-ramersdorf-st-pius.de/event/hl-adalbert-bischof-von-prag-glaubensbote-bei-den-preussen-maertyrer-997-bzw-hl-georg-maertyrer-in-kappadozien-4-jh-bzw-freitag-der-4-osterwoche-9/
CATEGORIES:Liturgischer Kalender
END:VEVENT
END:VCALENDAR