BEGIN:VCALENDAR
VERSION:2.0
PRODID:-//Pfarrverband Maria Ramersdorf - St. Pius - ECPv6.15.20//NONSGML v1.0//EN
CALSCALE:GREGORIAN
METHOD:PUBLISH
X-ORIGINAL-URL:https://pv-maria-ramersdorf-st-pius.de
X-WR-CALDESC:Veranstaltungen für Pfarrverband Maria Ramersdorf - St. Pius
REFRESH-INTERVAL;VALUE=DURATION:PT1H
X-Robots-Tag:noindex
X-PUBLISHED-TTL:PT1H
BEGIN:VTIMEZONE
TZID:Europe/Berlin
BEGIN:DAYLIGHT
TZOFFSETFROM:+0100
TZOFFSETTO:+0200
TZNAME:CEST
DTSTART:20260329T010000
END:DAYLIGHT
BEGIN:STANDARD
TZOFFSETFROM:+0200
TZOFFSETTO:+0100
TZNAME:CET
DTSTART:20261025T010000
END:STANDARD
BEGIN:DAYLIGHT
TZOFFSETFROM:+0100
TZOFFSETTO:+0200
TZNAME:CEST
DTSTART:20270328T010000
END:DAYLIGHT
BEGIN:STANDARD
TZOFFSETFROM:+0200
TZOFFSETTO:+0100
TZNAME:CET
DTSTART:20271031T010000
END:STANDARD
BEGIN:DAYLIGHT
TZOFFSETFROM:+0100
TZOFFSETTO:+0200
TZNAME:CEST
DTSTART:20280326T010000
END:DAYLIGHT
BEGIN:STANDARD
TZOFFSETFROM:+0200
TZOFFSETTO:+0100
TZNAME:CET
DTSTART:20281029T010000
END:STANDARD
END:VTIMEZONE
BEGIN:VEVENT
DTSTART;VALUE=DATE:20270616
DTEND;VALUE=DATE:20270617
DTSTAMP:20260424T140438
CREATED:20260117T093959Z
LAST-MODIFIED:20260117T093959Z
UID:3334-1813104000-1813190399@pv-maria-ramersdorf-st-pius.de
SUMMARY:Hl. Benno\, Bischof; in der Stadt München: Hl. Benno\, Bischof\, Patron der Stadt (H) bzw. Bahnlesungen (Mittwoch der 11. Woche im Jahreskreis)
DESCRIPTION:Messfeier mit Gl\, Cr\, Präfation von den Hirten der Kirche\, Feierl. Schluss-Segen (Heilige)\,  \nTagesevangelium: Joh 14\,1-6 bzw. Mt 6\, 1-6.16-18
URL:https://pv-maria-ramersdorf-st-pius.de/event/hl-benno-bischof-in-der-stadt-muenchen-hl-benno-bischof-patron-der-stadt-h-bzw-bahnlesungen-mittwoch-der-11-woche-im-jahreskreis/
CATEGORIES:Liturgischer Kalender
END:VEVENT
END:VCALENDAR