BEGIN:VCALENDAR
VERSION:2.0
PRODID:-//Pfarrverband Maria Ramersdorf - St. Pius - ECPv6.15.20//NONSGML v1.0//EN
CALSCALE:GREGORIAN
METHOD:PUBLISH
X-ORIGINAL-URL:https://pv-maria-ramersdorf-st-pius.de
X-WR-CALDESC:Veranstaltungen für Pfarrverband Maria Ramersdorf - St. Pius
REFRESH-INTERVAL;VALUE=DURATION:PT1H
X-Robots-Tag:noindex
X-PUBLISHED-TTL:PT1H
BEGIN:VTIMEZONE
TZID:Europe/Berlin
BEGIN:DAYLIGHT
TZOFFSETFROM:+0100
TZOFFSETTO:+0200
TZNAME:CEST
DTSTART:20260329T010000
END:DAYLIGHT
BEGIN:STANDARD
TZOFFSETFROM:+0200
TZOFFSETTO:+0100
TZNAME:CET
DTSTART:20261025T010000
END:STANDARD
BEGIN:DAYLIGHT
TZOFFSETFROM:+0100
TZOFFSETTO:+0200
TZNAME:CEST
DTSTART:20270328T010000
END:DAYLIGHT
BEGIN:STANDARD
TZOFFSETFROM:+0200
TZOFFSETTO:+0100
TZNAME:CET
DTSTART:20271031T010000
END:STANDARD
BEGIN:DAYLIGHT
TZOFFSETFROM:+0100
TZOFFSETTO:+0200
TZNAME:CEST
DTSTART:20280326T010000
END:DAYLIGHT
BEGIN:STANDARD
TZOFFSETFROM:+0200
TZOFFSETTO:+0100
TZNAME:CET
DTSTART:20281029T010000
END:STANDARD
END:VTIMEZONE
BEGIN:VEVENT
DTSTART;VALUE=DATE:20270807
DTEND;VALUE=DATE:20270808
DTSTAMP:20260424T172057
CREATED:20260117T094146Z
LAST-MODIFIED:20260117T094147Z
UID:3564-1817596800-1817683199@pv-maria-ramersdorf-st-pius.de
SUMMARY:Hl. Afra\, Märtyrin bzw. Hl. Kajetan\, Priester\, Ordensgründer (1547) bzw. Hl. Xystus II.\, Papst\, und Gefährten\, Märtyrer bzw. Samstag der 18. Woche im Jahreskreis
DESCRIPTION:Tagesevangelium: Lk 12\, 32-34 bzw. Mt 10\, 28-33 bzw. Mt 17\, 14-20
URL:https://pv-maria-ramersdorf-st-pius.de/event/hl-afra-maertyrin-bzw-hl-kajetan-priester-ordensgruender-1547-bzw-hl-xystus-ii-papst-und-gefaehrten-maertyrer-bzw-samstag-der-18-woche-im-jahreskreis-2/
CATEGORIES:Liturgischer Kalender
END:VEVENT
END:VCALENDAR