BEGIN:VCALENDAR
VERSION:2.0
PRODID:-//Pfarrverband Maria Ramersdorf - St. Pius - ECPv6.15.20//NONSGML v1.0//EN
CALSCALE:GREGORIAN
METHOD:PUBLISH
X-ORIGINAL-URL:https://pv-maria-ramersdorf-st-pius.de
X-WR-CALDESC:Veranstaltungen für Pfarrverband Maria Ramersdorf - St. Pius
REFRESH-INTERVAL;VALUE=DURATION:PT1H
X-Robots-Tag:noindex
X-PUBLISHED-TTL:PT1H
BEGIN:VTIMEZONE
TZID:Europe/Berlin
BEGIN:DAYLIGHT
TZOFFSETFROM:+0100
TZOFFSETTO:+0200
TZNAME:CEST
DTSTART:20260329T010000
END:DAYLIGHT
BEGIN:STANDARD
TZOFFSETFROM:+0200
TZOFFSETTO:+0100
TZNAME:CET
DTSTART:20261025T010000
END:STANDARD
BEGIN:DAYLIGHT
TZOFFSETFROM:+0100
TZOFFSETTO:+0200
TZNAME:CEST
DTSTART:20270328T010000
END:DAYLIGHT
BEGIN:STANDARD
TZOFFSETFROM:+0200
TZOFFSETTO:+0100
TZNAME:CET
DTSTART:20271031T010000
END:STANDARD
BEGIN:DAYLIGHT
TZOFFSETFROM:+0100
TZOFFSETTO:+0200
TZNAME:CEST
DTSTART:20280326T010000
END:DAYLIGHT
BEGIN:STANDARD
TZOFFSETFROM:+0200
TZOFFSETTO:+0100
TZNAME:CET
DTSTART:20281029T010000
END:STANDARD
END:VTIMEZONE
BEGIN:VEVENT
DTSTART;VALUE=DATE:20270928
DTEND;VALUE=DATE:20270929
DTSTAMP:20260424T184109
CREATED:20260117T094155Z
LAST-MODIFIED:20260117T094156Z
UID:3771-1822089600-1822175999@pv-maria-ramersdorf-st-pius.de
SUMMARY:Hl. Lioba\, Abtissin von Tauberbischofsheim (um 782) bzw. Hl. Lorenzo Ruiz und Gefährten\, Märtyrer (1633-1637) bzw. Hl. Wenzel\, Herzog von Böhmen\, Märtyrer (929) bzw. Dienstag der 26. Woche im Jahreskreis
DESCRIPTION:Tagesevangelium: Joh 15\, 5.8-12 bzw. Mt 10\, 28-33 bzw. Mt 10\, 34-39 bzw. Lk 9\, 51-56
URL:https://pv-maria-ramersdorf-st-pius.de/event/hl-lioba-abtissin-von-tauberbischofsheim-um-782-bzw-hl-lorenzo-ruiz-und-gefaehrten-maertyrer-1633-1637-bzw-hl-wenzel-herzog-von-boehmen-maertyrer-929-bzw-dienstag-der-26-woche-im-jahr/
CATEGORIES:Liturgischer Kalender
END:VEVENT
END:VCALENDAR