BEGIN:VCALENDAR
VERSION:2.0
PRODID:-//Pfarrverband Maria Ramersdorf - St. Pius - ECPv6.15.20//NONSGML v1.0//EN
CALSCALE:GREGORIAN
METHOD:PUBLISH
X-WR-CALNAME:Pfarrverband Maria Ramersdorf - St. Pius
X-ORIGINAL-URL:https://pv-maria-ramersdorf-st-pius.de
X-WR-CALDESC:Veranstaltungen für Pfarrverband Maria Ramersdorf - St. Pius
REFRESH-INTERVAL;VALUE=DURATION:PT1H
X-Robots-Tag:noindex
X-PUBLISHED-TTL:PT1H
BEGIN:VTIMEZONE
TZID:Europe/Berlin
BEGIN:DAYLIGHT
TZOFFSETFROM:+0100
TZOFFSETTO:+0200
TZNAME:CEST
DTSTART:20260329T010000
END:DAYLIGHT
BEGIN:STANDARD
TZOFFSETFROM:+0200
TZOFFSETTO:+0100
TZNAME:CET
DTSTART:20261025T010000
END:STANDARD
BEGIN:DAYLIGHT
TZOFFSETFROM:+0100
TZOFFSETTO:+0200
TZNAME:CEST
DTSTART:20270328T010000
END:DAYLIGHT
BEGIN:STANDARD
TZOFFSETFROM:+0200
TZOFFSETTO:+0100
TZNAME:CET
DTSTART:20271031T010000
END:STANDARD
BEGIN:DAYLIGHT
TZOFFSETFROM:+0100
TZOFFSETTO:+0200
TZNAME:CEST
DTSTART:20280326T010000
END:DAYLIGHT
BEGIN:STANDARD
TZOFFSETFROM:+0200
TZOFFSETTO:+0100
TZNAME:CET
DTSTART:20281029T010000
END:STANDARD
END:VTIMEZONE
BEGIN:VEVENT
DTSTART;VALUE=DATE:20271110
DTEND;VALUE=DATE:20271111
DTSTAMP:20260425T125042
CREATED:20260117T094204Z
LAST-MODIFIED:20260117T094204Z
UID:3942-1825804800-1825891199@pv-maria-ramersdorf-st-pius.de
SUMMARY:Hl. Leo der Große\, Papst\, Kirchenlehrer (461) bzw. Bahnlesungen (Mittwoch der 32. Woche im Jahreskreis)
DESCRIPTION:Tagesevangelium: Mt 16\, 13-19 bzw. Lk 17\, 11-19
URL:https://pv-maria-ramersdorf-st-pius.de/event/hl-leo-der-grosse-papst-kirchenlehrer-461-bzw-bahnlesungen-mittwoch-der-32-woche-im-jahreskreis/
CATEGORIES:Liturgischer Kalender
END:VEVENT
END:VCALENDAR