BEGIN:VCALENDAR
VERSION:2.0
PRODID:-//Pfarrverband Maria Ramersdorf - St. Pius - ECPv6.15.20//NONSGML v1.0//EN
CALSCALE:GREGORIAN
METHOD:PUBLISH
X-WR-CALNAME:Pfarrverband Maria Ramersdorf - St. Pius
X-ORIGINAL-URL:https://pv-maria-ramersdorf-st-pius.de
X-WR-CALDESC:Veranstaltungen für Pfarrverband Maria Ramersdorf - St. Pius
REFRESH-INTERVAL;VALUE=DURATION:PT1H
X-Robots-Tag:noindex
X-PUBLISHED-TTL:PT1H
BEGIN:VTIMEZONE
TZID:Europe/Berlin
BEGIN:DAYLIGHT
TZOFFSETFROM:+0100
TZOFFSETTO:+0200
TZNAME:CEST
DTSTART:20250330T010000
END:DAYLIGHT
BEGIN:STANDARD
TZOFFSETFROM:+0200
TZOFFSETTO:+0100
TZNAME:CET
DTSTART:20251026T010000
END:STANDARD
BEGIN:DAYLIGHT
TZOFFSETFROM:+0100
TZOFFSETTO:+0200
TZNAME:CEST
DTSTART:20260329T010000
END:DAYLIGHT
BEGIN:STANDARD
TZOFFSETFROM:+0200
TZOFFSETTO:+0100
TZNAME:CET
DTSTART:20261025T010000
END:STANDARD
BEGIN:DAYLIGHT
TZOFFSETFROM:+0100
TZOFFSETTO:+0200
TZNAME:CEST
DTSTART:20270328T010000
END:DAYLIGHT
BEGIN:STANDARD
TZOFFSETFROM:+0200
TZOFFSETTO:+0100
TZNAME:CET
DTSTART:20271031T010000
END:STANDARD
END:VTIMEZONE
BEGIN:VEVENT
DTSTART;TZID=Europe/Berlin:20260419T110000
DTEND;TZID=Europe/Berlin:20260419T120000
DTSTAMP:20260419T180755
CREATED:20260327T145225Z
LAST-MODIFIED:20260327T145225Z
UID:6168-1776596400-1776600000@pv-maria-ramersdorf-st-pius.de
SUMMARY:Erstkommunion (Kollekte)\, für alle Lebenden und + der Pfarreien des Pfarrverbandes
DESCRIPTION:
URL:https://pv-maria-ramersdorf-st-pius.de/event/erstkommunion-kollekte-fuer-alle-lebenden-und-der-pfarreien-des-pfarrverbandes/
LOCATION:Pfarrkirche München-Mariä Himmelfahrt (Maria Ramersdorf)\, Aribonenstr. 9\, München\, 81669\, Germany
CATEGORIES:Termine Pfarrei
END:VEVENT
BEGIN:VEVENT
DTSTART;TZID=Europe/Berlin:20260419T093000
DTEND;TZID=Europe/Berlin:20260419T103000
DTSTAMP:20260419T180755
CREATED:20260327T145225Z
LAST-MODIFIED:20260327T145225Z
UID:6166-1776591000-1776594600@pv-maria-ramersdorf-st-pius.de
SUMMARY:Hl. Amt in St. Pius
DESCRIPTION:
URL:https://pv-maria-ramersdorf-st-pius.de/event/hl-amt-in-st-pius-3/
LOCATION:Pfarrheim St. Pius\, Piusstr. 11\, München\, 81675\, Germany
CATEGORIES:Termine Pfarrei
END:VEVENT
BEGIN:VEVENT
DTSTART;TZID=Europe/Berlin:20260417T190000
DTEND;TZID=Europe/Berlin:20260417T233000
DTSTAMP:20260419T180755
CREATED:20260208T135722Z
LAST-MODIFIED:20260408T104307Z
UID:4783-1776452400-1776468600@pv-maria-ramersdorf-st-pius.de
SUMMARY:Männertreff
DESCRIPTION:
URL:https://pv-maria-ramersdorf-st-pius.de/event/maennertreff-3/
LOCATION:Pfarrhaus Maria Ramersdorf\, Kaminzimmer\, Ramersdorfer Str. 6\, München\, 81669\, Germany
CATEGORIES:Männertreff
END:VEVENT
BEGIN:VEVENT
DTSTART;TZID=Europe/Berlin:20260416T140000
DTEND;TZID=Europe/Berlin:20260416T150000
DTSTAMP:20260419T180755
CREATED:20260210T052726Z
LAST-MODIFIED:20260210T053732Z
UID:4875-1776348000-1776351600@pv-maria-ramersdorf-st-pius.de
SUMMARY:Seniorennachmittag
DESCRIPTION:Seniorennachmittag für und mit Senioren
URL:https://pv-maria-ramersdorf-st-pius.de/event/seniorennachmittag-3/
LOCATION:Pfarrheim St. Pius\, Piusstr. 11\, München\, 81675\, Germany
CATEGORIES:Senioren
END:VEVENT
BEGIN:VEVENT
DTSTART;TZID=Europe/Berlin:20260411T160000
DTEND;TZID=Europe/Berlin:20260411T170000
DTSTAMP:20260419T180755
CREATED:20260313T151246Z
LAST-MODIFIED:20260331T050641Z
UID:5804-1775923200-1775926800@pv-maria-ramersdorf-st-pius.de
SUMMARY:Peregrinatio fidei Beatae Mariae Virginis – Mit Maria auf dem Pilgerweg des Glaubens
DESCRIPTION:Treffen zu Gebet und Austausch mit Sr. Rossana Sollai SBA\, Schwestern der Schönen Liebe \nanschl. Kaminzimmer im Pfarrhaus zum Gebet und Austausch
URL:https://pv-maria-ramersdorf-st-pius.de/event/peregrinatio-fidei-beatae-mariae-virginis-mit-maria-auf-dem-pilgerweg-des-glaubens-7/
LOCATION:Pfarrkirche München-Mariä Himmelfahrt (Maria Ramersdorf)\, Aribonenstr. 9\, München\, 81669\, Germany
CATEGORIES:Peregrinatio fidei
END:VEVENT
BEGIN:VEVENT
DTSTART;TZID=Europe/Berlin:20260419T180755
DTEND;TZID=Europe/Berlin:20260419T180755
DTSTAMP:20260419T180755
CREATED:20260219T150439Z
LAST-MODIFIED:20260219T150440Z
UID:5219-1776622075-1776622075@pv-maria-ramersdorf-st-pius.de
SUMMARY:Hl. Amt mit Fastenpredigt\, Betrachtungen zu ausgewählten Stationen des "Ramersdorfer Kreuzweges"
DESCRIPTION:
URL:https://pv-maria-ramersdorf-st-pius.de/event/hl-amt-mit-fastenpredigt-betrachtungen-zu-ausgewaehlten-stationen-des-ramersdorfer-kreuzweges-4/
END:VEVENT
BEGIN:VEVENT
DTSTART;TZID=Europe/Berlin:20260325T140000
DTEND;TZID=Europe/Berlin:20260325T150000
DTSTAMP:20260419T180755
CREATED:20260210T052726Z
LAST-MODIFIED:20260210T053732Z
UID:4874-1774447200-1774450800@pv-maria-ramersdorf-st-pius.de
SUMMARY:Seniorennachmittag
DESCRIPTION:Seniorennachmittag für und mit Senioren
URL:https://pv-maria-ramersdorf-st-pius.de/event/seniorennachmittag/
LOCATION:Pfarrheim/Jugendheim München-Maria Ramersdorf\, Uppenbornstraße 1\, München\, 81735\, Germany
CATEGORIES:Senioren
END:VEVENT
BEGIN:VEVENT
DTSTART;TZID=Europe/Berlin:20260306T190000
DTEND;TZID=Europe/Berlin:20260306T233000
DTSTAMP:20260419T180755
CREATED:20260208T132148Z
LAST-MODIFIED:20260208T140059Z
UID:4780-1772823600-1772839800@pv-maria-ramersdorf-st-pius.de
SUMMARY:Männertreff
DESCRIPTION:
URL:https://pv-maria-ramersdorf-st-pius.de/event/maennertreff-2/
LOCATION:Pfarrhaus Maria Ramersdorf\, Kaminzimmer\, Ramersdorfer Str. 6\, München\, 81669\, Germany
CATEGORIES:Männertreff
END:VEVENT
BEGIN:VEVENT
DTSTART;TZID=Europe/Berlin:20260304T140000
DTEND;TZID=Europe/Berlin:20260304T150000
DTSTAMP:20260419T180755
CREATED:20260210T052726Z
LAST-MODIFIED:20260210T053731Z
UID:4873-1772632800-1772636400@pv-maria-ramersdorf-st-pius.de
SUMMARY:Spielenachmittag
DESCRIPTION:Spielenachmittag für und mit Senioren
URL:https://pv-maria-ramersdorf-st-pius.de/event/spielenachmittag/
LOCATION:Pfarrheim St. Pius\, Piusstr. 11\, München\, 81675\, Germany
CATEGORIES:Senioren
END:VEVENT
BEGIN:VEVENT
DTSTART;TZID=Europe/Berlin:20260213T190000
DTEND;TZID=Europe/Berlin:20260213T233000
DTSTAMP:20260419T180755
CREATED:20260129T191028Z
LAST-MODIFIED:20260208T140059Z
UID:4651-1771009200-1771025400@pv-maria-ramersdorf-st-pius.de
SUMMARY:Männertreff
DESCRIPTION:
URL:https://pv-maria-ramersdorf-st-pius.de/event/maennertreff/
LOCATION:Pfarrhaus Maria Ramersdorf\, Kaminzimmer\, Ramersdorfer Str. 6\, München\, 81669\, Germany
CATEGORIES:Männertreff
END:VEVENT
END:VCALENDAR