BEGIN:VCALENDAR
VERSION:2.0
PRODID:-//Pfarrverband Maria Ramersdorf - St. Pius - ECPv6.15.20//NONSGML v1.0//EN
CALSCALE:GREGORIAN
METHOD:PUBLISH
X-WR-CALNAME:Pfarrverband Maria Ramersdorf - St. Pius
X-ORIGINAL-URL:https://pv-maria-ramersdorf-st-pius.de
X-WR-CALDESC:Veranstaltungen für Pfarrverband Maria Ramersdorf - St. Pius
REFRESH-INTERVAL;VALUE=DURATION:PT1H
X-Robots-Tag:noindex
X-PUBLISHED-TTL:PT1H
BEGIN:VTIMEZONE
TZID:Europe/Berlin
BEGIN:DAYLIGHT
TZOFFSETFROM:+0100
TZOFFSETTO:+0200
TZNAME:CEST
DTSTART:20250330T010000
END:DAYLIGHT
BEGIN:STANDARD
TZOFFSETFROM:+0200
TZOFFSETTO:+0100
TZNAME:CET
DTSTART:20251026T010000
END:STANDARD
BEGIN:DAYLIGHT
TZOFFSETFROM:+0100
TZOFFSETTO:+0200
TZNAME:CEST
DTSTART:20260329T010000
END:DAYLIGHT
BEGIN:STANDARD
TZOFFSETFROM:+0200
TZOFFSETTO:+0100
TZNAME:CET
DTSTART:20261025T010000
END:STANDARD
BEGIN:DAYLIGHT
TZOFFSETFROM:+0100
TZOFFSETTO:+0200
TZNAME:CEST
DTSTART:20270328T010000
END:DAYLIGHT
BEGIN:STANDARD
TZOFFSETFROM:+0200
TZOFFSETTO:+0100
TZNAME:CET
DTSTART:20271031T010000
END:STANDARD
END:VTIMEZONE
BEGIN:VEVENT
DTSTART;VALUE=DATE:20260516
DTEND;VALUE=DATE:20260517
DTSTAMP:20260421T204710
CREATED:20260117T093724Z
LAST-MODIFIED:20260117T093724Z
UID:547-1778889600-1778975999@pv-maria-ramersdorf-st-pius.de
SUMMARY:Hl. Johannes Nepomuk\, Priester\, Märtyrer (1393) bzw. Samstag der 6. Osterwoche
DESCRIPTION:Tagesevangelium: Mt 10\, 28-33 bzw. Joh 16\, 23b-28
URL:https://pv-maria-ramersdorf-st-pius.de/event/hl-johannes-nepomuk-priester-maertyrer-1393-bzw-samstag-der-6-osterwoche/
CATEGORIES:Liturgischer Kalender
END:VEVENT
BEGIN:VEVENT
DTSTART;TZID=Europe/Berlin:20260516T160000
DTEND;TZID=Europe/Berlin:20260516T170000
DTSTAMP:20260421T204710
CREATED:20260331T050536Z
LAST-MODIFIED:20260331T050641Z
UID:6257-1778947200-1778950800@pv-maria-ramersdorf-st-pius.de
SUMMARY:Peregrinatio fidei Beatae Mariae Virginis – Mit Maria auf dem Pilgerweg des Glaubens
DESCRIPTION:Treffen zu Gebet und Austausch mit Sr. Rossana Sollai SBA\, Schwestern der Schönen Liebe \nanschl. Kaminzimmer im Pfarrhaus zum Gebet und Austausch
URL:https://pv-maria-ramersdorf-st-pius.de/event/peregrinatio-fidei-beatae-mariae-virginis-mit-maria-auf-dem-pilgerweg-des-glaubens-3/
LOCATION:Pfarrkirche München-Mariä Himmelfahrt (Maria Ramersdorf)\, Aribonenstr. 9\, München\, 81669\, Germany
CATEGORIES:Peregrinatio fidei
END:VEVENT
BEGIN:VEVENT
DTSTART;VALUE=DATE:20260517
DTEND;VALUE=DATE:20260518
DTSTAMP:20260421T204710
CREATED:20260117T093724Z
LAST-MODIFIED:20260117T093724Z
UID:549-1778976000-1779062399@pv-maria-ramersdorf-st-pius.de
SUMMARY:7. Sonntag der Osterzeit
DESCRIPTION:Tagesevangelium: Joh 17\, 1-11a
URL:https://pv-maria-ramersdorf-st-pius.de/event/7-sonntag-der-osterzeit/
CATEGORIES:Liturgischer Kalender
END:VEVENT
BEGIN:VEVENT
DTSTART;VALUE=DATE:20260518
DTEND;VALUE=DATE:20260519
DTSTAMP:20260421T204710
CREATED:20260117T093724Z
LAST-MODIFIED:20260117T093724Z
UID:551-1779062400-1779148799@pv-maria-ramersdorf-st-pius.de
SUMMARY:Hl. Johannes I.\, Papst\, Märtyrer (526) bzw. Montag der 7. Osterwoche
DESCRIPTION:Tagesevangelium: Lk 22\, 24-30 bzw. Joh 16\, 29-33
URL:https://pv-maria-ramersdorf-st-pius.de/event/hl-johannes-i-papst-maertyrer-526-bzw-montag-der-7-osterwoche/
CATEGORIES:Liturgischer Kalender
END:VEVENT
BEGIN:VEVENT
DTSTART;VALUE=DATE:20260519
DTEND;VALUE=DATE:20260520
DTSTAMP:20260421T204710
CREATED:20260117T093724Z
LAST-MODIFIED:20260117T093725Z
UID:553-1779148800-1779235199@pv-maria-ramersdorf-st-pius.de
SUMMARY:Dienstag der 7. Osterwoche
DESCRIPTION:Tagesevangelium: Joh 17\, 1-11a
URL:https://pv-maria-ramersdorf-st-pius.de/event/dienstag-der-7-osterwoche/
CATEGORIES:Liturgischer Kalender
END:VEVENT
BEGIN:VEVENT
DTSTART;VALUE=DATE:20260520
DTEND;VALUE=DATE:20260521
DTSTAMP:20260421T204710
CREATED:20260117T093725Z
LAST-MODIFIED:20260117T093725Z
UID:555-1779235200-1779321599@pv-maria-ramersdorf-st-pius.de
SUMMARY:Hl. Bernhardin von Siena\, Ordenspriester\, Volksprediger (1444) bzw. Mittwoch der 7. Osterwoche
DESCRIPTION:Tagesevangelium: Lk 9\, 57-62 bzw. Joh 17\, 6a.11b-19
URL:https://pv-maria-ramersdorf-st-pius.de/event/hl-bernhardin-von-siena-ordenspriester-volksprediger-1444-bzw-mittwoch-der-7-osterwoche/
CATEGORIES:Liturgischer Kalender
END:VEVENT
BEGIN:VEVENT
DTSTART;VALUE=DATE:20260521
DTEND;VALUE=DATE:20260522
DTSTAMP:20260421T204710
CREATED:20260117T093725Z
LAST-MODIFIED:20260117T093725Z
UID:557-1779321600-1779407999@pv-maria-ramersdorf-st-pius.de
SUMMARY:Hl. Christopherus Magallanes\, Priester\, und Gefährten\, Märtyrer (1927) bzw. Hl. Hermann Josef\, Ordenspriester\, Mystiker (1241) bzw. Donnerstag der 7. Osterwoche
DESCRIPTION:Tagesevangelium: Joh 12\, 24-26 bzw. Mt 11\, 25-30 bzw. Joh 17\, 20-26
URL:https://pv-maria-ramersdorf-st-pius.de/event/hl-christopherus-magallanes-priester-und-gefaehrten-maertyrer-1927-bzw-hl-hermann-josef-ordenspriester-mystiker-1241-bzw-donnerstag-der-7-osterwoche/
CATEGORIES:Liturgischer Kalender
END:VEVENT
BEGIN:VEVENT
DTSTART;TZID=Europe/Berlin:20260521T140000
DTEND;TZID=Europe/Berlin:20260521T150000
DTSTAMP:20260421T204710
CREATED:20260210T053012Z
LAST-MODIFIED:20260210T053732Z
UID:4881-1779372000-1779375600@pv-maria-ramersdorf-st-pius.de
SUMMARY:Gemeinsame Muttertagsfeier
DESCRIPTION:
URL:https://pv-maria-ramersdorf-st-pius.de/event/gemeinsame-muttertagsfeier/
LOCATION:Pfarrheim St. Pius\, Piusstr. 11\, München\, 81675\, Germany
CATEGORIES:Senioren
END:VEVENT
BEGIN:VEVENT
DTSTART;VALUE=DATE:20260522
DTEND;VALUE=DATE:20260523
DTSTAMP:20260421T204710
CREATED:20260117T093725Z
LAST-MODIFIED:20260117T093725Z
UID:559-1779408000-1779494399@pv-maria-ramersdorf-st-pius.de
SUMMARY:Hl. Rita von Cascia\, Ordensfrau (1447) bzw. Freitag der 7. Osterwoche
DESCRIPTION:Tagesevangelium: Lk 6\, 27-38 bzw. Joh 21\, 1.15-19
URL:https://pv-maria-ramersdorf-st-pius.de/event/hl-rita-von-cascia-ordensfrau-1447-bzw-freitag-der-7-osterwoche/
CATEGORIES:Liturgischer Kalender
END:VEVENT
BEGIN:VEVENT
DTSTART;VALUE=DATE:20260523
DTEND;VALUE=DATE:20260524
DTSTAMP:20260421T204710
CREATED:20260117T093725Z
LAST-MODIFIED:20260117T093725Z
UID:561-1779494400-1779580799@pv-maria-ramersdorf-st-pius.de
SUMMARY:Samstag der 7. Osterwoche
DESCRIPTION:Tagesevangelium: Joh 21\, 20-25
URL:https://pv-maria-ramersdorf-st-pius.de/event/samstag-der-7-osterwoche/
CATEGORIES:Liturgischer Kalender
END:VEVENT
BEGIN:VEVENT
DTSTART;TZID=Europe/Berlin:20260523T160000
DTEND;TZID=Europe/Berlin:20260523T170000
DTSTAMP:20260421T204710
CREATED:20260331T050629Z
LAST-MODIFIED:20260331T050641Z
UID:6259-1779552000-1779555600@pv-maria-ramersdorf-st-pius.de
SUMMARY:Peregrinatio fidei Beatae Mariae Virginis – Mit Maria auf dem Pilgerweg des Glaubens
DESCRIPTION:Treffen zu Gebet und Austausch mit Sr. Rossana Sollai SBA\, Schwestern der Schönen Liebe \nanschl. Kaminzimmer im Pfarrhaus zum Gebet und Austausch
URL:https://pv-maria-ramersdorf-st-pius.de/event/peregrinatio-fidei-beatae-mariae-virginis-mit-maria-auf-dem-pilgerweg-des-glaubens-4/
LOCATION:Pfarrkirche München-Mariä Himmelfahrt (Maria Ramersdorf)\, Aribonenstr. 9\, München\, 81669\, Germany
CATEGORIES:Peregrinatio fidei
END:VEVENT
BEGIN:VEVENT
DTSTART;VALUE=DATE:20260524
DTEND;VALUE=DATE:20260525
DTSTAMP:20260421T204710
CREATED:20260117T093725Z
LAST-MODIFIED:20260117T093725Z
UID:563-1779580800-1779667199@pv-maria-ramersdorf-st-pius.de
SUMMARY:Pfingsten
DESCRIPTION:Am Vorabend bzw. Am Tag\,  \nTagesevangelium: Joh 7\, 37-39 bzw. Joh 20\, 19-23
URL:https://pv-maria-ramersdorf-st-pius.de/event/pfingsten/
CATEGORIES:Liturgischer Kalender
END:VEVENT
BEGIN:VEVENT
DTSTART;VALUE=DATE:20260525
DTEND;VALUE=DATE:20260526
DTSTAMP:20260421T204710
CREATED:20260117T093726Z
LAST-MODIFIED:20260117T093726Z
UID:565-1779667200-1779753599@pv-maria-ramersdorf-st-pius.de
SUMMARY:Pfingstmontag bzw. Maria\, Mutter der Kirche bzw. Bahnlesungen (Montag der 8. Woche im Jahreskreis)
DESCRIPTION:(Votivmesse kann im Lauf der Woche nachgeholt werden)\,  \nTagesevangelium: Joh 15\, 26 – 16\, 3.12-15 bzw. Joh 19\, 24-27 bzw. Mk 10\, 17-27
URL:https://pv-maria-ramersdorf-st-pius.de/event/pfingstmontag-bzw-maria-mutter-der-kirche-bzw-bahnlesungen-montag-der-8-woche-im-jahreskreis/
CATEGORIES:Liturgischer Kalender
END:VEVENT
BEGIN:VEVENT
DTSTART;VALUE=DATE:20260526
DTEND;VALUE=DATE:20260527
DTSTAMP:20260421T204710
CREATED:20260117T093726Z
LAST-MODIFIED:20260117T093726Z
UID:567-1779753600-1779839999@pv-maria-ramersdorf-st-pius.de
SUMMARY:Hl. Philipp Neri\, Priester\, Gründer des Oratoriums (1595) bzw. Bahnlesungen (Dienstag der 8. Woche im Jahreskreis)
DESCRIPTION:Tagesevangelium: Joh 17\, 20-26 bzw. Mk 10\, 28-31
URL:https://pv-maria-ramersdorf-st-pius.de/event/hl-philipp-neri-priester-gruender-des-oratoriums-1595-bzw-bahnlesungen-dienstag-der-8-woche-im-jahreskreis/
CATEGORIES:Liturgischer Kalender
END:VEVENT
BEGIN:VEVENT
DTSTART;VALUE=DATE:20260527
DTEND;VALUE=DATE:20260528
DTSTAMP:20260421T204710
CREATED:20260117T093726Z
LAST-MODIFIED:20260117T093726Z
UID:569-1779840000-1779926399@pv-maria-ramersdorf-st-pius.de
SUMMARY:Hl. Augustinus\, Bischof von Canterbury\, Glaubensbote in England (um 605) bzw. Mittwoch der 8. Woche im Jahreskreis
DESCRIPTION:Tagesevangelium: Mt 9\, 35-38 bzw. Mk 10\, 32-45
URL:https://pv-maria-ramersdorf-st-pius.de/event/hl-augustinus-bischof-von-canterbury-glaubensbote-in-england-um-605-bzw-mittwoch-der-8-woche-im-jahreskreis/
CATEGORIES:Liturgischer Kalender
END:VEVENT
BEGIN:VEVENT
DTSTART;VALUE=DATE:20260528
DTEND;VALUE=DATE:20260529
DTSTAMP:20260421T204710
CREATED:20260117T093726Z
LAST-MODIFIED:20260117T093726Z
UID:571-1779926400-1780012799@pv-maria-ramersdorf-st-pius.de
SUMMARY:Donnerstag der 8. Woche im Jahreskreis
DESCRIPTION:Tagesevangelium: Mk 10\, 46-52
URL:https://pv-maria-ramersdorf-st-pius.de/event/donnerstag-der-8-woche-im-jahreskreis/
CATEGORIES:Liturgischer Kalender
END:VEVENT
BEGIN:VEVENT
DTSTART;VALUE=DATE:20260529
DTEND;VALUE=DATE:20260530
DTSTAMP:20260421T204710
CREATED:20260117T093726Z
LAST-MODIFIED:20260117T093726Z
UID:573-1780012800-1780099199@pv-maria-ramersdorf-st-pius.de
SUMMARY:Hl. Paul VI.\, Papst (1897-1978) bzw. Freitag der 8. Woche im Jahreskreis
DESCRIPTION:Tagesevangelium: Mk 11\, 11-25
URL:https://pv-maria-ramersdorf-st-pius.de/event/hl-paul-vi-papst-1897-1978-bzw-freitag-der-8-woche-im-jahreskreis/
CATEGORIES:Liturgischer Kalender
END:VEVENT
BEGIN:VEVENT
DTSTART;VALUE=DATE:20260530
DTEND;VALUE=DATE:20260531
DTSTAMP:20260421T204710
CREATED:20260117T093726Z
LAST-MODIFIED:20260117T093727Z
UID:575-1780099200-1780185599@pv-maria-ramersdorf-st-pius.de
SUMMARY:Samstag der 8. Woche im Jahreskreis
DESCRIPTION:Tagesevangelium: Mk 11\, 27-33
URL:https://pv-maria-ramersdorf-st-pius.de/event/samstag-der-8-woche-im-jahreskreis/
CATEGORIES:Liturgischer Kalender
END:VEVENT
BEGIN:VEVENT
DTSTART;TZID=Europe/Berlin:20260530T160000
DTEND;TZID=Europe/Berlin:20260530T170000
DTSTAMP:20260421T204710
CREATED:20260331T050641Z
LAST-MODIFIED:20260331T050641Z
UID:6261-1780156800-1780160400@pv-maria-ramersdorf-st-pius.de
SUMMARY:Peregrinatio fidei Beatae Mariae Virginis – Mit Maria auf dem Pilgerweg des Glaubens
DESCRIPTION:Treffen zu Gebet und Austausch mit Sr. Rossana Sollai SBA\, Schwestern der Schönen Liebe \nanschl. Kaminzimmer im Pfarrhaus zum Gebet und Austausch
URL:https://pv-maria-ramersdorf-st-pius.de/event/peregrinatio-fidei-beatae-mariae-virginis-mit-maria-auf-dem-pilgerweg-des-glaubens-5/
LOCATION:Pfarrkirche München-Mariä Himmelfahrt (Maria Ramersdorf)\, Aribonenstr. 9\, München\, 81669\, Germany
CATEGORIES:Peregrinatio fidei
END:VEVENT
BEGIN:VEVENT
DTSTART;VALUE=DATE:20260531
DTEND;VALUE=DATE:20260601
DTSTAMP:20260421T204710
CREATED:20260117T093727Z
LAST-MODIFIED:20260117T093727Z
UID:577-1780185600-1780271999@pv-maria-ramersdorf-st-pius.de
SUMMARY:Dreifaltigkeitssonntag
DESCRIPTION:Sonntag nach Pfingsten\,  \nTagesevangelium: Joh 3\, 16-18
URL:https://pv-maria-ramersdorf-st-pius.de/event/dreifaltigkeitssonntag/
CATEGORIES:Liturgischer Kalender
END:VEVENT
BEGIN:VEVENT
DTSTART;VALUE=DATE:20260601
DTEND;VALUE=DATE:20260602
DTSTAMP:20260421T204710
CREATED:20260117T093727Z
LAST-MODIFIED:20260117T093727Z
UID:579-1780272000-1780358399@pv-maria-ramersdorf-st-pius.de
SUMMARY:Hl. Justin\, Philosoph\, Märtyrer (um 165) bzw. Bahnlesungen (Montag der 9. Woche im Jahreskreis)
DESCRIPTION:Tagesevangelium: Mt 5\, 13-19 bzw. Mk 12\, 1-12
URL:https://pv-maria-ramersdorf-st-pius.de/event/hl-justin-philosoph-maertyrer-um-165-bzw-bahnlesungen-montag-der-9-woche-im-jahreskreis/
CATEGORIES:Liturgischer Kalender
END:VEVENT
BEGIN:VEVENT
DTSTART;VALUE=DATE:20260602
DTEND;VALUE=DATE:20260603
DTSTAMP:20260421T204710
CREATED:20260117T093727Z
LAST-MODIFIED:20260117T093727Z
UID:581-1780358400-1780444799@pv-maria-ramersdorf-st-pius.de
SUMMARY:Hl. Marcellinus und hl. Petrus\, Märtyrer in Rom (303) bzw. Dienstag der 9. Woche im Jahreskreis
DESCRIPTION:Tagesevangelium: Joh 17\, 6a.11b-19 bzw. Mk 12\, 13-17
URL:https://pv-maria-ramersdorf-st-pius.de/event/hl-marcellinus-und-hl-petrus-maertyrer-in-rom-303-bzw-dienstag-der-9-woche-im-jahreskreis/
CATEGORIES:Liturgischer Kalender
END:VEVENT
BEGIN:VEVENT
DTSTART;VALUE=DATE:20260603
DTEND;VALUE=DATE:20260604
DTSTAMP:20260421T204710
CREATED:20260117T093727Z
LAST-MODIFIED:20260117T093727Z
UID:583-1780444800-1780531199@pv-maria-ramersdorf-st-pius.de
SUMMARY:Hl. Karl Lwanga und Gefährten\, Märtyrer in Uganda (1886) bzw. Bahnlesungen (Mittwoch der 9. Woche im Jahreskreis)
DESCRIPTION:Tagesevangelium: Mt 5\, 1-12a bzw. Mk 12\, 18-27
URL:https://pv-maria-ramersdorf-st-pius.de/event/hl-karl-lwanga-und-gefaehrten-maertyrer-in-uganda-1886-bzw-bahnlesungen-mittwoch-der-9-woche-im-jahreskreis/
CATEGORIES:Liturgischer Kalender
END:VEVENT
BEGIN:VEVENT
DTSTART;VALUE=DATE:20260604
DTEND;VALUE=DATE:20260605
DTSTAMP:20260421T204710
CREATED:20260117T093727Z
LAST-MODIFIED:20260117T093727Z
UID:585-1780531200-1780617599@pv-maria-ramersdorf-st-pius.de
SUMMARY:Hochfest des Leibes und Blutes Christi – Fronleichnam
DESCRIPTION:Tagesevangelium: Joh 6\, 51-58
URL:https://pv-maria-ramersdorf-st-pius.de/event/hochfest-des-leibes-und-blutes-christi-fronleichnam/
CATEGORIES:Liturgischer Kalender
END:VEVENT
BEGIN:VEVENT
DTSTART;VALUE=DATE:20260605
DTEND;VALUE=DATE:20260606
DTSTAMP:20260421T204710
CREATED:20260117T093727Z
LAST-MODIFIED:20260117T093727Z
UID:587-1780617600-1780703999@pv-maria-ramersdorf-st-pius.de
SUMMARY:Bonifatius\, Bischof\, Glaubensbote in Deutschland\, Märtyrer (754)
DESCRIPTION:Tagesevangelium: Joh 15\, 14-16a.18-20
URL:https://pv-maria-ramersdorf-st-pius.de/event/bonifatius-bischof-glaubensbote-in-deutschland-maertyrer-754/
CATEGORIES:Liturgischer Kalender
END:VEVENT
BEGIN:VEVENT
DTSTART;TZID=Europe/Berlin:20260605T190000
DTEND;TZID=Europe/Berlin:20260605T233000
DTSTAMP:20260421T204710
CREATED:20260208T135758Z
LAST-MODIFIED:20260408T104307Z
UID:4785-1780686000-1780702200@pv-maria-ramersdorf-st-pius.de
SUMMARY:Männertreff
DESCRIPTION:
URL:https://pv-maria-ramersdorf-st-pius.de/event/maennertreff-5/
LOCATION:Pfarrhaus Maria Ramersdorf\, Kaminzimmer\, Ramersdorfer Str. 6\, München\, 81669\, Germany
CATEGORIES:Männertreff
END:VEVENT
BEGIN:VEVENT
DTSTART;VALUE=DATE:20260606
DTEND;VALUE=DATE:20260607
DTSTAMP:20260421T204710
CREATED:20260117T093727Z
LAST-MODIFIED:20260117T093728Z
UID:589-1780704000-1780790399@pv-maria-ramersdorf-st-pius.de
SUMMARY:Hl. Norbert von Xanten\, Ordensgründer\, Bischof von Magdeburg (1134) bzw. Samstag der 9. Woche im Jahreskreis
DESCRIPTION:Tagesevangelium: Lk 14\, 25-33 bzw. Mk 12\, 38-44
URL:https://pv-maria-ramersdorf-st-pius.de/event/hl-norbert-von-xanten-ordensgruender-bischof-von-magdeburg-1134-bzw-samstag-der-9-woche-im-jahreskreis/
CATEGORIES:Liturgischer Kalender
END:VEVENT
BEGIN:VEVENT
DTSTART;VALUE=DATE:20260607
DTEND;VALUE=DATE:20260608
DTSTAMP:20260421T204710
CREATED:20260117T093728Z
LAST-MODIFIED:20260117T093728Z
UID:591-1780790400-1780876799@pv-maria-ramersdorf-st-pius.de
SUMMARY:10. Sonntag im Jahreskreis
DESCRIPTION:Tagesevangelium: Mt 9\, 9-13
URL:https://pv-maria-ramersdorf-st-pius.de/event/10-sonntag-im-jahreskreis/
CATEGORIES:Liturgischer Kalender
END:VEVENT
BEGIN:VEVENT
DTSTART;VALUE=DATE:20260608
DTEND;VALUE=DATE:20260609
DTSTAMP:20260421T204710
CREATED:20260117T093728Z
LAST-MODIFIED:20260117T093728Z
UID:593-1780876800-1780963199@pv-maria-ramersdorf-st-pius.de
SUMMARY:Montag der 10. Woche im Jahreskreis
DESCRIPTION:Tagesevangelium: Mt 5\, 1-12
URL:https://pv-maria-ramersdorf-st-pius.de/event/montag-der-10-woche-im-jahreskreis/
CATEGORIES:Liturgischer Kalender
END:VEVENT
BEGIN:VEVENT
DTSTART;VALUE=DATE:20260609
DTEND;VALUE=DATE:20260610
DTSTAMP:20260421T204710
CREATED:20260117T093728Z
LAST-MODIFIED:20260117T093728Z
UID:595-1780963200-1781049599@pv-maria-ramersdorf-st-pius.de
SUMMARY:Hl. Ephräm der Syrer\, Diakon\, Kirchenlehrer (373) bzw. Dienstag der 10. Woche im Jahreskreis
DESCRIPTION:Tagesevangelium: Lk 6\, 43-45 bzw. Mt 5\, 13-16
URL:https://pv-maria-ramersdorf-st-pius.de/event/hl-ephraem-der-syrer-diakon-kirchenlehrer-373-bzw-dienstag-der-10-woche-im-jahreskreis/
CATEGORIES:Liturgischer Kalender
END:VEVENT
END:VCALENDAR