BEGIN:VCALENDAR
VERSION:2.0
PRODID:-//Pfarrverband Maria Ramersdorf - St. Pius - ECPv6.15.20//NONSGML v1.0//EN
CALSCALE:GREGORIAN
METHOD:PUBLISH
X-WR-CALNAME:Pfarrverband Maria Ramersdorf - St. Pius
X-ORIGINAL-URL:https://pv-maria-ramersdorf-st-pius.de
X-WR-CALDESC:Veranstaltungen für Pfarrverband Maria Ramersdorf - St. Pius
REFRESH-INTERVAL;VALUE=DURATION:PT1H
X-Robots-Tag:noindex
X-PUBLISHED-TTL:PT1H
BEGIN:VTIMEZONE
TZID:Europe/Berlin
BEGIN:DAYLIGHT
TZOFFSETFROM:+0100
TZOFFSETTO:+0200
TZNAME:CEST
DTSTART:20250330T010000
END:DAYLIGHT
BEGIN:STANDARD
TZOFFSETFROM:+0200
TZOFFSETTO:+0100
TZNAME:CET
DTSTART:20251026T010000
END:STANDARD
BEGIN:DAYLIGHT
TZOFFSETFROM:+0100
TZOFFSETTO:+0200
TZNAME:CEST
DTSTART:20260329T010000
END:DAYLIGHT
BEGIN:STANDARD
TZOFFSETFROM:+0200
TZOFFSETTO:+0100
TZNAME:CET
DTSTART:20261025T010000
END:STANDARD
BEGIN:DAYLIGHT
TZOFFSETFROM:+0100
TZOFFSETTO:+0200
TZNAME:CEST
DTSTART:20270328T010000
END:DAYLIGHT
BEGIN:STANDARD
TZOFFSETFROM:+0200
TZOFFSETTO:+0100
TZNAME:CET
DTSTART:20271031T010000
END:STANDARD
END:VTIMEZONE
BEGIN:VEVENT
DTSTART;VALUE=DATE:20260501
DTEND;VALUE=DATE:20260502
DTSTAMP:20260419T180827
CREATED:20260117T093721Z
LAST-MODIFIED:20260117T093721Z
UID:517-1777593600-1777679999@pv-maria-ramersdorf-st-pius.de
SUMMARY:Hl. Maria\, Patronin des Landes Bayern
DESCRIPTION:Messfeier mit Gl\, Cr\, Marienpräfation\, Feierl. Schluss-Segen (Maria).\,  \nTagesevangelium: Joh 2\,1-11
URL:https://pv-maria-ramersdorf-st-pius.de/event/hl-maria-patronin-des-landes-bayern/
CATEGORIES:Liturgischer Kalender
END:VEVENT
BEGIN:VEVENT
DTSTART;TZID=Europe/Berlin:20260501T093000
DTEND;TZID=Europe/Berlin:20260501T103000
DTSTAMP:20260419T180827
CREATED:20260327T145233Z
LAST-MODIFIED:20260327T145234Z
UID:6222-1777627800-1777631400@pv-maria-ramersdorf-st-pius.de
SUMMARY:Festliches Amt
DESCRIPTION:
URL:https://pv-maria-ramersdorf-st-pius.de/event/festliches-amt/
LOCATION:Pfarrheim St. Pius\, Piusstr. 11\, München\, 81675\, Germany
CATEGORIES:Termine Pfarrei
END:VEVENT
BEGIN:VEVENT
DTSTART;TZID=Europe/Berlin:20260501T110000
DTEND;TZID=Europe/Berlin:20260501T120000
DTSTAMP:20260419T180827
CREATED:20260327T145234Z
LAST-MODIFIED:20260327T145234Z
UID:6224-1777633200-1777636800@pv-maria-ramersdorf-st-pius.de
SUMMARY:Festliches Amt\, für alle Lebenden und + der Pfarreien des Pfarrverbandes
DESCRIPTION:
URL:https://pv-maria-ramersdorf-st-pius.de/event/festliches-amt-fuer-alle-lebenden-und-der-pfarreien-des-pfarrverbandes/
LOCATION:Pfarrkirche München-Mariä Himmelfahrt (Maria Ramersdorf)\, Aribonenstr. 9\, München\, 81669\, Germany
CATEGORIES:Termine Pfarrei
END:VEVENT
BEGIN:VEVENT
DTSTART;TZID=Europe/Berlin:20260501T180000
DTEND;TZID=Europe/Berlin:20260501T190000
DTSTAMP:20260419T180827
CREATED:20260327T145234Z
LAST-MODIFIED:20260327T145234Z
UID:6226-1777658400-1777662000@pv-maria-ramersdorf-st-pius.de
SUMMARY:Erste feierliche Maiandacht
DESCRIPTION:
URL:https://pv-maria-ramersdorf-st-pius.de/event/erste-feierliche-maiandacht/
LOCATION:Pfarrheim St. Pius\, Piusstr. 11\, München\, 81675\, Germany
CATEGORIES:Termine Pfarrei
END:VEVENT
BEGIN:VEVENT
DTSTART;TZID=Europe/Berlin:20260501T190000
DTEND;TZID=Europe/Berlin:20260501T200000
DTSTAMP:20260419T180827
CREATED:20260327T145234Z
LAST-MODIFIED:20260327T145235Z
UID:6228-1777662000-1777665600@pv-maria-ramersdorf-st-pius.de
SUMMARY:Erste feierliche Maiandacht
DESCRIPTION:
URL:https://pv-maria-ramersdorf-st-pius.de/event/erste-feierliche-maiandacht-2/
LOCATION:Pfarrkirche München-Mariä Himmelfahrt (Maria Ramersdorf)\, Aribonenstr. 9\, München\, 81669\, Germany
CATEGORIES:Termine Pfarrei
END:VEVENT
BEGIN:VEVENT
DTSTART;VALUE=DATE:20260502
DTEND;VALUE=DATE:20260503
DTSTAMP:20260419T180827
CREATED:20260117T093721Z
LAST-MODIFIED:20260117T093722Z
UID:519-1777680000-1777766399@pv-maria-ramersdorf-st-pius.de
SUMMARY:Hl. Athanasius\, Bischof von Alexandrien\, Kirchenlehrer (373) bzw. Bahnlesungen (Samstag der 4. Osterwoche)
DESCRIPTION:Tagesevangelium: Mt 10\, 22-25a bzw. Joh 14\, 7-14
URL:https://pv-maria-ramersdorf-st-pius.de/event/hl-athanasius-bischof-von-alexandrien-kirchenlehrer-373-bzw-bahnlesungen-samstag-der-4-osterwoche/
CATEGORIES:Liturgischer Kalender
END:VEVENT
BEGIN:VEVENT
DTSTART;TZID=Europe/Berlin:20260502T090000
DTEND;TZID=Europe/Berlin:20260502T100000
DTSTAMP:20260419T180827
CREATED:20260327T145235Z
LAST-MODIFIED:20260327T145235Z
UID:6230-1777712400-1777716000@pv-maria-ramersdorf-st-pius.de
SUMMARY:Hl. Messe zu Ehren der Gottesmutter (Zelebration am Gnadenaltar)
DESCRIPTION:
URL:https://pv-maria-ramersdorf-st-pius.de/event/hl-messe-zu-ehren-der-gottesmutter-zelebration-am-gnadenaltar-5/
LOCATION:Pfarrkirche München-Mariä Himmelfahrt (Maria Ramersdorf)\, Aribonenstr. 9\, München\, 81669\, Germany
CATEGORIES:Termine Pfarrei
END:VEVENT
BEGIN:VEVENT
DTSTART;TZID=Europe/Berlin:20260502T103000
DTEND;TZID=Europe/Berlin:20260502T113000
DTSTAMP:20260419T180827
CREATED:20260327T145235Z
LAST-MODIFIED:20260327T145235Z
UID:6232-1777717800-1777721400@pv-maria-ramersdorf-st-pius.de
SUMMARY:Hl. Messe im Altenheim St. Maria Ramersdorf
DESCRIPTION:
URL:https://pv-maria-ramersdorf-st-pius.de/event/hl-messe-im-altenheim-st-maria-ramersdorf-3/
LOCATION:Altenheim St. Maria Ramersdorf Kapelle\, St.-Martin-Str. 65\, München\, 81669\, Germany
CATEGORIES:Termine Pfarrei
END:VEVENT
BEGIN:VEVENT
DTSTART;TZID=Europe/Berlin:20260502T160000
DTEND;TZID=Europe/Berlin:20260502T170000
DTSTAMP:20260419T180827
CREATED:20260331T050511Z
LAST-MODIFIED:20260331T050641Z
UID:6253-1777737600-1777741200@pv-maria-ramersdorf-st-pius.de
SUMMARY:Peregrinatio fidei Beatae Mariae Virginis – Mit Maria auf dem Pilgerweg des Glaubens
DESCRIPTION:Treffen zu Gebet und Austausch mit Sr. Rossana Sollai SBA\, Schwestern der Schönen Liebe \nanschl. Kaminzimmer im Pfarrhaus zum Gebet und Austausch
URL:https://pv-maria-ramersdorf-st-pius.de/event/peregrinatio-fidei-beatae-mariae-virginis-mit-maria-auf-dem-pilgerweg-des-glaubens/
LOCATION:Pfarrkirche München-Mariä Himmelfahrt (Maria Ramersdorf)\, Aribonenstr. 9\, München\, 81669\, Germany
CATEGORIES:Peregrinatio fidei
END:VEVENT
BEGIN:VEVENT
DTSTART;TZID=Europe/Berlin:20260502T171500
DTEND;TZID=Europe/Berlin:20260502T181500
DTSTAMP:20260419T180827
CREATED:20260327T145235Z
LAST-MODIFIED:20260327T145236Z
UID:6234-1777742100-1777745700@pv-maria-ramersdorf-st-pius.de
SUMMARY:Rosenkranz und Beichtgelegenheit
DESCRIPTION:
URL:https://pv-maria-ramersdorf-st-pius.de/event/rosenkranz-und-beichtgelegenheit-11/
LOCATION:Pfarrkirche München-Mariä Himmelfahrt (Maria Ramersdorf)\, Aribonenstr. 9\, München\, 81669\, Germany
CATEGORIES:Termine Pfarrei
END:VEVENT
BEGIN:VEVENT
DTSTART;TZID=Europe/Berlin:20260502T180000
DTEND;TZID=Europe/Berlin:20260502T190000
DTSTAMP:20260419T180827
CREATED:20260327T145236Z
LAST-MODIFIED:20260327T145236Z
UID:6236-1777744800-1777748400@pv-maria-ramersdorf-st-pius.de
SUMMARY:Hl. Amt zum Vorabend\, anschließend Maiandacht
DESCRIPTION:
URL:https://pv-maria-ramersdorf-st-pius.de/event/hl-amt-zum-vorabend-anschliessend-maiandacht-2/
LOCATION:Pfarrkirche München-Mariä Himmelfahrt (Maria Ramersdorf)\, Aribonenstr. 9\, München\, 81669\, Germany
CATEGORIES:Termine Pfarrei
END:VEVENT
BEGIN:VEVENT
DTSTART;VALUE=DATE:20260503
DTEND;VALUE=DATE:20260504
DTSTAMP:20260419T180827
CREATED:20260117T093722Z
LAST-MODIFIED:20260117T093722Z
UID:521-1777766400-1777852799@pv-maria-ramersdorf-st-pius.de
SUMMARY:5. Sonntag der Osterzeit
DESCRIPTION:Tagesevangelium: Joh 14\, 1-12
URL:https://pv-maria-ramersdorf-st-pius.de/event/5-sonntag-der-osterzeit/
CATEGORIES:Liturgischer Kalender
END:VEVENT
BEGIN:VEVENT
DTSTART;VALUE=DATE:20260504
DTEND;VALUE=DATE:20260505
DTSTAMP:20260419T180827
CREATED:20260117T093722Z
LAST-MODIFIED:20260117T093722Z
UID:523-1777852800-1777939199@pv-maria-ramersdorf-st-pius.de
SUMMARY:Hl. Florian (304) und die Märtyrer von Lorch bzw. Montag der 5. Osterwoche
DESCRIPTION:Tagesevangelium: Mt 10\, 17-22 bzw. Joh 14\, 21-26
URL:https://pv-maria-ramersdorf-st-pius.de/event/hl-florian-304-und-die-maertyrer-von-lorch-bzw-montag-der-5-osterwoche/
CATEGORIES:Liturgischer Kalender
END:VEVENT
BEGIN:VEVENT
DTSTART;VALUE=DATE:20260505
DTEND;VALUE=DATE:20260506
DTSTAMP:20260419T180827
CREATED:20260117T093722Z
LAST-MODIFIED:20260117T093722Z
UID:525-1777939200-1778025599@pv-maria-ramersdorf-st-pius.de
SUMMARY:Hl. Godehard\, Bischof von Hildesheim (1038) bzw. Dienstag der 5. Osterwoche
DESCRIPTION:Tagesevangelium: Lk 9\, 57-62 bzw. Joh 14\, 27-31a
URL:https://pv-maria-ramersdorf-st-pius.de/event/hl-godehard-bischof-von-hildesheim-1038-bzw-dienstag-der-5-osterwoche/
CATEGORIES:Liturgischer Kalender
END:VEVENT
BEGIN:VEVENT
DTSTART;VALUE=DATE:20260506
DTEND;VALUE=DATE:20260507
DTSTAMP:20260419T180827
CREATED:20260117T093722Z
LAST-MODIFIED:20260117T093722Z
UID:527-1778025600-1778111999@pv-maria-ramersdorf-st-pius.de
SUMMARY:Hl. Sigismund\, König der Burgunder\, Märtyrer bzw. Mittwoch der 5. Osterwoche
DESCRIPTION:Tagesevangelium: Joh 15\, 1-8
URL:https://pv-maria-ramersdorf-st-pius.de/event/hl-sigismund-koenig-der-burgunder-maertyrer-bzw-mittwoch-der-5-osterwoche/
CATEGORIES:Liturgischer Kalender
END:VEVENT
BEGIN:VEVENT
DTSTART;VALUE=DATE:20260507
DTEND;VALUE=DATE:20260508
DTSTAMP:20260419T180827
CREATED:20260117T093722Z
LAST-MODIFIED:20260117T093722Z
UID:529-1778112000-1778198399@pv-maria-ramersdorf-st-pius.de
SUMMARY:Donnerstag der 5. Osterwoche
DESCRIPTION:Tagesevangelium: Joh 15\, 9-11
URL:https://pv-maria-ramersdorf-st-pius.de/event/donnerstag-der-5-osterwoche/
CATEGORIES:Liturgischer Kalender
END:VEVENT
BEGIN:VEVENT
DTSTART;VALUE=DATE:20260508
DTEND;VALUE=DATE:20260509
DTSTAMP:20260419T180827
CREATED:20260117T093722Z
LAST-MODIFIED:20260117T093723Z
UID:531-1778198400-1778284799@pv-maria-ramersdorf-st-pius.de
SUMMARY:Freitag der 5. Osterwoche
DESCRIPTION:Tagesevangelium: Joh 15\, 12-17
URL:https://pv-maria-ramersdorf-st-pius.de/event/freitag-der-5-osterwoche/
CATEGORIES:Liturgischer Kalender
END:VEVENT
BEGIN:VEVENT
DTSTART;TZID=Europe/Berlin:20260508T190000
DTEND;TZID=Europe/Berlin:20260508T233000
DTSTAMP:20260419T180827
CREATED:20260208T135741Z
LAST-MODIFIED:20260408T104307Z
UID:4784-1778266800-1778283000@pv-maria-ramersdorf-st-pius.de
SUMMARY:Männertreff
DESCRIPTION:
URL:https://pv-maria-ramersdorf-st-pius.de/event/maennertreff-4/
LOCATION:Pfarrhaus Maria Ramersdorf\, Kaminzimmer\, Ramersdorfer Str. 6\, München\, 81669\, Germany
CATEGORIES:Männertreff
END:VEVENT
BEGIN:VEVENT
DTSTART;VALUE=DATE:20260509
DTEND;VALUE=DATE:20260510
DTSTAMP:20260419T180827
CREATED:20260117T093723Z
LAST-MODIFIED:20260117T093723Z
UID:533-1778284800-1778371199@pv-maria-ramersdorf-st-pius.de
SUMMARY:Sel. Maria Theresia von Jesu Gerhardinger\, Jungfrau\, Ordensgründerin bzw. Bahnlesungen (Samstag der 5. Osterwoche)
DESCRIPTION:Tagesevangelium: Joh 15\, 18-21
URL:https://pv-maria-ramersdorf-st-pius.de/event/sel-maria-theresia-von-jesu-gerhardinger-jungfrau-ordensgruenderin-bzw-bahnlesungen-samstag-der-5-osterwoche/
CATEGORIES:Liturgischer Kalender
END:VEVENT
BEGIN:VEVENT
DTSTART;TZID=Europe/Berlin:20260509T160000
DTEND;TZID=Europe/Berlin:20260509T170000
DTSTAMP:20260419T180827
CREATED:20260331T050524Z
LAST-MODIFIED:20260331T050641Z
UID:6255-1778342400-1778346000@pv-maria-ramersdorf-st-pius.de
SUMMARY:Peregrinatio fidei Beatae Mariae Virginis – Mit Maria auf dem Pilgerweg des Glaubens
DESCRIPTION:Treffen zu Gebet und Austausch mit Sr. Rossana Sollai SBA\, Schwestern der Schönen Liebe \nanschl. Kaminzimmer im Pfarrhaus zum Gebet und Austausch
URL:https://pv-maria-ramersdorf-st-pius.de/event/peregrinatio-fidei-beatae-mariae-virginis-mit-maria-auf-dem-pilgerweg-des-glaubens-2/
LOCATION:Pfarrkirche München-Mariä Himmelfahrt (Maria Ramersdorf)\, Aribonenstr. 9\, München\, 81669\, Germany
CATEGORIES:Peregrinatio fidei
END:VEVENT
BEGIN:VEVENT
DTSTART;VALUE=DATE:20260510
DTEND;VALUE=DATE:20260511
DTSTAMP:20260419T180827
CREATED:20260117T093723Z
LAST-MODIFIED:20260117T093723Z
UID:535-1778371200-1778457599@pv-maria-ramersdorf-st-pius.de
SUMMARY:6. Sonntag der Osterzeit
DESCRIPTION:Tagesevangelium: Joh 14\, 15-21
URL:https://pv-maria-ramersdorf-st-pius.de/event/6-sonntag-der-osterzeit/
CATEGORIES:Liturgischer Kalender
END:VEVENT
BEGIN:VEVENT
DTSTART;VALUE=DATE:20260511
DTEND;VALUE=DATE:20260512
DTSTAMP:20260419T180827
CREATED:20260117T093723Z
LAST-MODIFIED:20260117T093723Z
UID:537-1778457600-1778543999@pv-maria-ramersdorf-st-pius.de
SUMMARY:Montag der 6. Osterwoche
DESCRIPTION:Tagesevangelium: Joh 15\, 26 – 16\, 4a
URL:https://pv-maria-ramersdorf-st-pius.de/event/montag-der-6-osterwoche/
CATEGORIES:Liturgischer Kalender
END:VEVENT
BEGIN:VEVENT
DTSTART;VALUE=DATE:20260512
DTEND;VALUE=DATE:20260513
DTSTAMP:20260419T180827
CREATED:20260117T093723Z
LAST-MODIFIED:20260117T093723Z
UID:539-1778544000-1778630399@pv-maria-ramersdorf-st-pius.de
SUMMARY:Hl. Nereus und hl. Achilleus\, Märtyrer (um 304) bzw. Hl. Pankratius\, Märtyrer (um 304) bzw. Dienstag der 6. Osterwoche
DESCRIPTION:Tagesevangelium: Mt 10\, 17-22 bzw. Mt 11\, 25-30 bzw. Joh 16\, 5-11
URL:https://pv-maria-ramersdorf-st-pius.de/event/hl-nereus-und-hl-achilleus-maertyrer-um-304-bzw-hl-pankratius-maertyrer-um-304-bzw-dienstag-der-6-osterwoche/
CATEGORIES:Liturgischer Kalender
END:VEVENT
BEGIN:VEVENT
DTSTART;VALUE=DATE:20260513
DTEND;VALUE=DATE:20260514
DTSTAMP:20260419T180827
CREATED:20260117T093723Z
LAST-MODIFIED:20260117T093724Z
UID:541-1778630400-1778716799@pv-maria-ramersdorf-st-pius.de
SUMMARY:Gedenktag Unserer Lieben Frau von Fatima bzw. Mittwoch der 6. Osterwoche
DESCRIPTION:Tagesevangelium: Lk 11\, 27-28 bzw. Joh 16\, 12-15
URL:https://pv-maria-ramersdorf-st-pius.de/event/gedenktag-unserer-lieben-frau-von-fatima-bzw-mittwoch-der-6-osterwoche/
CATEGORIES:Liturgischer Kalender
END:VEVENT
BEGIN:VEVENT
DTSTART;VALUE=DATE:20260514
DTEND;VALUE=DATE:20260515
DTSTAMP:20260419T180827
CREATED:20260117T093724Z
LAST-MODIFIED:20260117T093724Z
UID:543-1778716800-1778803199@pv-maria-ramersdorf-st-pius.de
SUMMARY:Christi Himmelfahrt
DESCRIPTION:Tagesevangelium: Mt 28\, 16-20
URL:https://pv-maria-ramersdorf-st-pius.de/event/christi-himmelfahrt/
CATEGORIES:Liturgischer Kalender
END:VEVENT
BEGIN:VEVENT
DTSTART;VALUE=DATE:20260515
DTEND;VALUE=DATE:20260516
DTSTAMP:20260419T180827
CREATED:20260117T093724Z
LAST-MODIFIED:20260117T093724Z
UID:545-1778803200-1778889599@pv-maria-ramersdorf-st-pius.de
SUMMARY:Freitag der 6. Osterwoche
DESCRIPTION:Tagesevangelium: Joh 16\, 20-23a
URL:https://pv-maria-ramersdorf-st-pius.de/event/freitag-der-6-osterwoche/
CATEGORIES:Liturgischer Kalender
END:VEVENT
BEGIN:VEVENT
DTSTART;VALUE=DATE:20260516
DTEND;VALUE=DATE:20260517
DTSTAMP:20260419T180827
CREATED:20260117T093724Z
LAST-MODIFIED:20260117T093724Z
UID:547-1778889600-1778975999@pv-maria-ramersdorf-st-pius.de
SUMMARY:Hl. Johannes Nepomuk\, Priester\, Märtyrer (1393) bzw. Samstag der 6. Osterwoche
DESCRIPTION:Tagesevangelium: Mt 10\, 28-33 bzw. Joh 16\, 23b-28
URL:https://pv-maria-ramersdorf-st-pius.de/event/hl-johannes-nepomuk-priester-maertyrer-1393-bzw-samstag-der-6-osterwoche/
CATEGORIES:Liturgischer Kalender
END:VEVENT
BEGIN:VEVENT
DTSTART;TZID=Europe/Berlin:20260516T160000
DTEND;TZID=Europe/Berlin:20260516T170000
DTSTAMP:20260419T180827
CREATED:20260331T050536Z
LAST-MODIFIED:20260331T050641Z
UID:6257-1778947200-1778950800@pv-maria-ramersdorf-st-pius.de
SUMMARY:Peregrinatio fidei Beatae Mariae Virginis – Mit Maria auf dem Pilgerweg des Glaubens
DESCRIPTION:Treffen zu Gebet und Austausch mit Sr. Rossana Sollai SBA\, Schwestern der Schönen Liebe \nanschl. Kaminzimmer im Pfarrhaus zum Gebet und Austausch
URL:https://pv-maria-ramersdorf-st-pius.de/event/peregrinatio-fidei-beatae-mariae-virginis-mit-maria-auf-dem-pilgerweg-des-glaubens-3/
LOCATION:Pfarrkirche München-Mariä Himmelfahrt (Maria Ramersdorf)\, Aribonenstr. 9\, München\, 81669\, Germany
CATEGORIES:Peregrinatio fidei
END:VEVENT
BEGIN:VEVENT
DTSTART;VALUE=DATE:20260517
DTEND;VALUE=DATE:20260518
DTSTAMP:20260419T180827
CREATED:20260117T093724Z
LAST-MODIFIED:20260117T093724Z
UID:549-1778976000-1779062399@pv-maria-ramersdorf-st-pius.de
SUMMARY:7. Sonntag der Osterzeit
DESCRIPTION:Tagesevangelium: Joh 17\, 1-11a
URL:https://pv-maria-ramersdorf-st-pius.de/event/7-sonntag-der-osterzeit/
CATEGORIES:Liturgischer Kalender
END:VEVENT
BEGIN:VEVENT
DTSTART;VALUE=DATE:20260518
DTEND;VALUE=DATE:20260519
DTSTAMP:20260419T180827
CREATED:20260117T093724Z
LAST-MODIFIED:20260117T093724Z
UID:551-1779062400-1779148799@pv-maria-ramersdorf-st-pius.de
SUMMARY:Hl. Johannes I.\, Papst\, Märtyrer (526) bzw. Montag der 7. Osterwoche
DESCRIPTION:Tagesevangelium: Lk 22\, 24-30 bzw. Joh 16\, 29-33
URL:https://pv-maria-ramersdorf-st-pius.de/event/hl-johannes-i-papst-maertyrer-526-bzw-montag-der-7-osterwoche/
CATEGORIES:Liturgischer Kalender
END:VEVENT
END:VCALENDAR