BEGIN:VCALENDAR
VERSION:2.0
PRODID:-//Pfarrverband Maria Ramersdorf - St. Pius - ECPv6.15.20//NONSGML v1.0//EN
CALSCALE:GREGORIAN
METHOD:PUBLISH
X-WR-CALNAME:Pfarrverband Maria Ramersdorf - St. Pius
X-ORIGINAL-URL:https://pv-maria-ramersdorf-st-pius.de
X-WR-CALDESC:Veranstaltungen für Pfarrverband Maria Ramersdorf - St. Pius
REFRESH-INTERVAL;VALUE=DURATION:PT1H
X-Robots-Tag:noindex
X-PUBLISHED-TTL:PT1H
BEGIN:VTIMEZONE
TZID:Europe/Berlin
BEGIN:DAYLIGHT
TZOFFSETFROM:+0100
TZOFFSETTO:+0200
TZNAME:CEST
DTSTART:20250330T010000
END:DAYLIGHT
BEGIN:STANDARD
TZOFFSETFROM:+0200
TZOFFSETTO:+0100
TZNAME:CET
DTSTART:20251026T010000
END:STANDARD
BEGIN:DAYLIGHT
TZOFFSETFROM:+0100
TZOFFSETTO:+0200
TZNAME:CEST
DTSTART:20260329T010000
END:DAYLIGHT
BEGIN:STANDARD
TZOFFSETFROM:+0200
TZOFFSETTO:+0100
TZNAME:CET
DTSTART:20261025T010000
END:STANDARD
BEGIN:DAYLIGHT
TZOFFSETFROM:+0100
TZOFFSETTO:+0200
TZNAME:CEST
DTSTART:20270328T010000
END:DAYLIGHT
BEGIN:STANDARD
TZOFFSETFROM:+0200
TZOFFSETTO:+0100
TZNAME:CET
DTSTART:20271031T010000
END:STANDARD
END:VTIMEZONE
BEGIN:VEVENT
DTSTART;VALUE=DATE:20260419
DTEND;VALUE=DATE:20260420
DTSTAMP:20260419T162214
CREATED:20260117T093720Z
LAST-MODIFIED:20260117T093720Z
UID:493-1776556800-1776643199@pv-maria-ramersdorf-st-pius.de
SUMMARY:3. Sonntag der Osterzeit
DESCRIPTION:Tagesevangelium: Lk 24\, 13-35 oder Joh 21\, 1-14
URL:https://pv-maria-ramersdorf-st-pius.de/event/3-sonntag-der-osterzeit/
CATEGORIES:Liturgischer Kalender
END:VEVENT
BEGIN:VEVENT
DTSTART;TZID=Europe/Berlin:20260419T093000
DTEND;TZID=Europe/Berlin:20260419T103000
DTSTAMP:20260419T162214
CREATED:20260327T145225Z
LAST-MODIFIED:20260327T145225Z
UID:6166-1776591000-1776594600@pv-maria-ramersdorf-st-pius.de
SUMMARY:Hl. Amt in St. Pius
DESCRIPTION:
URL:https://pv-maria-ramersdorf-st-pius.de/event/hl-amt-in-st-pius-3/
LOCATION:Pfarrheim St. Pius\, Piusstr. 11\, München\, 81675\, Germany
CATEGORIES:Termine Pfarrei
END:VEVENT
BEGIN:VEVENT
DTSTART;TZID=Europe/Berlin:20260419T110000
DTEND;TZID=Europe/Berlin:20260419T120000
DTSTAMP:20260419T162214
CREATED:20260327T145225Z
LAST-MODIFIED:20260327T145225Z
UID:6168-1776596400-1776600000@pv-maria-ramersdorf-st-pius.de
SUMMARY:Erstkommunion (Kollekte)\, für alle Lebenden und + der Pfarreien des Pfarrverbandes
DESCRIPTION:
URL:https://pv-maria-ramersdorf-st-pius.de/event/erstkommunion-kollekte-fuer-alle-lebenden-und-der-pfarreien-des-pfarrverbandes/
LOCATION:Pfarrkirche München-Mariä Himmelfahrt (Maria Ramersdorf)\, Aribonenstr. 9\, München\, 81669\, Germany
CATEGORIES:Termine Pfarrei
END:VEVENT
BEGIN:VEVENT
DTSTART;VALUE=DATE:20260420
DTEND;VALUE=DATE:20260421
DTSTAMP:20260419T162214
CREATED:20260117T093720Z
LAST-MODIFIED:20260117T093720Z
UID:495-1776643200-1776729599@pv-maria-ramersdorf-st-pius.de
SUMMARY:Montag der 3. Osterwoche
DESCRIPTION:Tagesevangelium: Joh 6\, 22-29
URL:https://pv-maria-ramersdorf-st-pius.de/event/montag-der-3-osterwoche/
CATEGORIES:Liturgischer Kalender
END:VEVENT
BEGIN:VEVENT
DTSTART;TZID=Europe/Berlin:20260420T080000
DTEND;TZID=Europe/Berlin:20260420T090000
DTSTAMP:20260419T162214
CREATED:20260327T145225Z
LAST-MODIFIED:20260327T145226Z
UID:6170-1776672000-1776675600@pv-maria-ramersdorf-st-pius.de
SUMMARY:Hl. Messe in Maria Ramersdorf
DESCRIPTION:
URL:https://pv-maria-ramersdorf-st-pius.de/event/hl-messe-in-maria-ramersdorf-9/
LOCATION:Pfarrkirche München-Mariä Himmelfahrt (Maria Ramersdorf)\, Aribonenstr. 9\, München\, 81669\, Germany
CATEGORIES:Termine Pfarrei
END:VEVENT
BEGIN:VEVENT
DTSTART;VALUE=DATE:20260421
DTEND;VALUE=DATE:20260422
DTSTAMP:20260419T162214
CREATED:20260117T093720Z
LAST-MODIFIED:20260117T093720Z
UID:497-1776729600-1776815999@pv-maria-ramersdorf-st-pius.de
SUMMARY:Hl. Anselm\, Bischof von Canterbury\, Kirchenlehrer (1109) bzw. Hl. Konrad von Parzham\, Ordensbruder in Altötting (1894) bzw. Dienstag der 3. Osterwoche
DESCRIPTION:Tagesevangelium: Mt 7\, 21-29 bzw. Lk 12\, 35-40 bzw. Joh 6\, 30-35
URL:https://pv-maria-ramersdorf-st-pius.de/event/hl-anselm-bischof-von-canterbury-kirchenlehrer-1109-bzw-hl-konrad-von-parzham-ordensbruder-in-altoetting-1894-bzw-dienstag-der-3-osterwoche/
CATEGORIES:Liturgischer Kalender
END:VEVENT
BEGIN:VEVENT
DTSTART;TZID=Europe/Berlin:20260421T080000
DTEND;TZID=Europe/Berlin:20260421T090000
DTSTAMP:20260419T162214
CREATED:20260327T145226Z
LAST-MODIFIED:20260327T145226Z
UID:6172-1776758400-1776762000@pv-maria-ramersdorf-st-pius.de
SUMMARY:Hl. Messe in St. Pius
DESCRIPTION:
URL:https://pv-maria-ramersdorf-st-pius.de/event/hl-messe-in-st-pius-7/
LOCATION:Pfarrheim St. Pius\, Piusstr. 11\, München\, 81675\, Germany
CATEGORIES:Termine Pfarrei
END:VEVENT
BEGIN:VEVENT
DTSTART;TZID=Europe/Berlin:20260421T180000
DTEND;TZID=Europe/Berlin:20260421T190000
DTSTAMP:20260419T162214
CREATED:20260327T145226Z
LAST-MODIFIED:20260327T145226Z
UID:6174-1776794400-1776798000@pv-maria-ramersdorf-st-pius.de
SUMMARY:Hl. Messe in Maria Ramersdorf
DESCRIPTION:
URL:https://pv-maria-ramersdorf-st-pius.de/event/hl-messe-in-maria-ramersdorf-10/
LOCATION:Pfarrkirche München-Mariä Himmelfahrt (Maria Ramersdorf)\, Aribonenstr. 9\, München\, 81669\, Germany
CATEGORIES:Termine Pfarrei
END:VEVENT
BEGIN:VEVENT
DTSTART;VALUE=DATE:20260422
DTEND;VALUE=DATE:20260423
DTSTAMP:20260419T162214
CREATED:20260117T093720Z
LAST-MODIFIED:20260117T093720Z
UID:499-1776816000-1776902399@pv-maria-ramersdorf-st-pius.de
SUMMARY:Mittwoch der 3. Osterwoche
DESCRIPTION:Tagesevangelium: Joh 6\, 35-40
URL:https://pv-maria-ramersdorf-st-pius.de/event/mittwoch-der-3-osterwoche/
CATEGORIES:Liturgischer Kalender
END:VEVENT
BEGIN:VEVENT
DTSTART;TZID=Europe/Berlin:20260422T080000
DTEND;TZID=Europe/Berlin:20260422T090000
DTSTAMP:20260419T162214
CREATED:20260327T145226Z
LAST-MODIFIED:20260327T145226Z
UID:6176-1776844800-1776848400@pv-maria-ramersdorf-st-pius.de
SUMMARY:Hl. Messe in Maria Ramersdorf
DESCRIPTION:
URL:https://pv-maria-ramersdorf-st-pius.de/event/hl-messe-in-maria-ramersdorf-11/
LOCATION:Pfarrkirche München-Mariä Himmelfahrt (Maria Ramersdorf)\, Aribonenstr. 9\, München\, 81669\, Germany
CATEGORIES:Termine Pfarrei
END:VEVENT
BEGIN:VEVENT
DTSTART;TZID=Europe/Berlin:20260422T173000
DTEND;TZID=Europe/Berlin:20260422T183000
DTSTAMP:20260419T162214
CREATED:20260327T145226Z
LAST-MODIFIED:20260327T145227Z
UID:6178-1776879000-1776882600@pv-maria-ramersdorf-st-pius.de
SUMMARY:Rosenkranz und Beichtgelegenheit
DESCRIPTION:
URL:https://pv-maria-ramersdorf-st-pius.de/event/rosenkranz-und-beichtgelegenheit-7/
LOCATION:Pfarrheim St. Pius\, Piusstr. 11\, München\, 81675\, Germany
CATEGORIES:Termine Pfarrei
END:VEVENT
BEGIN:VEVENT
DTSTART;TZID=Europe/Berlin:20260422T180000
DTEND;TZID=Europe/Berlin:20260422T190000
DTSTAMP:20260419T162214
CREATED:20260327T145227Z
LAST-MODIFIED:20260327T145227Z
UID:6180-1776880800-1776884400@pv-maria-ramersdorf-st-pius.de
SUMMARY:Hl. Amt in St. Pius
DESCRIPTION:
URL:https://pv-maria-ramersdorf-st-pius.de/event/hl-amt-in-st-pius-4/
LOCATION:Pfarrheim St. Pius\, Piusstr. 11\, München\, 81675\, Germany
CATEGORIES:Termine Pfarrei
END:VEVENT
BEGIN:VEVENT
DTSTART;VALUE=DATE:20260423
DTEND;VALUE=DATE:20260424
DTSTAMP:20260419T162214
CREATED:20260117T093720Z
LAST-MODIFIED:20260117T093720Z
UID:501-1776902400-1776988799@pv-maria-ramersdorf-st-pius.de
SUMMARY:Hl. Adalbert\, Bischof von Prag\, Glaubensbote bei den Preußen\, Märtyrer (997) bzw. Hl. Georg\, Märtyrer in Kappadozien (4. Jh.) bzw. Donnerstag der 3. Osterwoche
DESCRIPTION:Tagesevangelium: Joh 12\, 24-26 bzw. Joh 15\, 1-8 bzw. Joh 6\, 44-51
URL:https://pv-maria-ramersdorf-st-pius.de/event/hl-adalbert-bischof-von-prag-glaubensbote-bei-den-preussen-maertyrer-997-bzw-hl-georg-maertyrer-in-kappadozien-4-jh-bzw-donnerstag-der-3-osterwoche/
CATEGORIES:Liturgischer Kalender
END:VEVENT
BEGIN:VEVENT
DTSTART;TZID=Europe/Berlin:20260423T080000
DTEND;TZID=Europe/Berlin:20260423T090000
DTSTAMP:20260419T162214
CREATED:20260327T145227Z
LAST-MODIFIED:20260327T145227Z
UID:6182-1776931200-1776934800@pv-maria-ramersdorf-st-pius.de
SUMMARY:Hl. Messe in St. Pius
DESCRIPTION:
URL:https://pv-maria-ramersdorf-st-pius.de/event/hl-messe-in-st-pius-8/
LOCATION:Pfarrheim St. Pius\, Piusstr. 11\, München\, 81675\, Germany
CATEGORIES:Termine Pfarrei
END:VEVENT
BEGIN:VEVENT
DTSTART;TZID=Europe/Berlin:20260423T180000
DTEND;TZID=Europe/Berlin:20260423T190000
DTSTAMP:20260419T162214
CREATED:20260327T145227Z
LAST-MODIFIED:20260327T145227Z
UID:6184-1776967200-1776970800@pv-maria-ramersdorf-st-pius.de
SUMMARY:Hl. Amt in Maria Ramersdorf
DESCRIPTION:
URL:https://pv-maria-ramersdorf-st-pius.de/event/hl-amt-in-maria-ramersdorf-4/
LOCATION:Pfarrkirche München-Mariä Himmelfahrt (Maria Ramersdorf)\, Aribonenstr. 9\, München\, 81669\, Germany
CATEGORIES:Termine Pfarrei
END:VEVENT
BEGIN:VEVENT
DTSTART;VALUE=DATE:20260424
DTEND;VALUE=DATE:20260425
DTSTAMP:20260419T162214
CREATED:20260117T093720Z
LAST-MODIFIED:20260117T093720Z
UID:503-1776988800-1777075199@pv-maria-ramersdorf-st-pius.de
SUMMARY:Hl. Fidelis von Sigmaringen\, Ordenspriester\, Märtyrer (1622) bzw. Freitag der 3. Osterwoche
DESCRIPTION:Tagesevangelium: Joh 10\, 11-16 bzw. Joh 6\, 52-59
URL:https://pv-maria-ramersdorf-st-pius.de/event/hl-fidelis-von-sigmaringen-ordenspriester-maertyrer-1622-bzw-freitag-der-3-osterwoche/
CATEGORIES:Liturgischer Kalender
END:VEVENT
BEGIN:VEVENT
DTSTART;TZID=Europe/Berlin:20260424T080000
DTEND;TZID=Europe/Berlin:20260424T090000
DTSTAMP:20260419T162214
CREATED:20260327T145228Z
LAST-MODIFIED:20260327T145228Z
UID:6186-1777017600-1777021200@pv-maria-ramersdorf-st-pius.de
SUMMARY:Hl. Messe in St. Pius
DESCRIPTION:
URL:https://pv-maria-ramersdorf-st-pius.de/event/hl-messe-in-st-pius-9/
LOCATION:Pfarrheim St. Pius\, Piusstr. 11\, München\, 81675\, Germany
CATEGORIES:Termine Pfarrei
END:VEVENT
BEGIN:VEVENT
DTSTART;TZID=Europe/Berlin:20260424T180000
DTEND;TZID=Europe/Berlin:20260424T190000
DTSTAMP:20260419T162214
CREATED:20260327T145228Z
LAST-MODIFIED:20260327T145228Z
UID:6188-1777053600-1777057200@pv-maria-ramersdorf-st-pius.de
SUMMARY:Hl. Messe in Maria Ramersdorf
DESCRIPTION:
URL:https://pv-maria-ramersdorf-st-pius.de/event/hl-messe-in-maria-ramersdorf-12/
LOCATION:Pfarrkirche München-Mariä Himmelfahrt (Maria Ramersdorf)\, Aribonenstr. 9\, München\, 81669\, Germany
CATEGORIES:Termine Pfarrei
END:VEVENT
BEGIN:VEVENT
DTSTART;VALUE=DATE:20260425
DTEND;VALUE=DATE:20260426
DTSTAMP:20260419T162214
CREATED:20260117T093721Z
LAST-MODIFIED:20260117T093721Z
UID:505-1777075200-1777161599@pv-maria-ramersdorf-st-pius.de
SUMMARY:Hl. Markus\, Evangelist
DESCRIPTION:Tagesevangelium: Mk 16\, 15-20
URL:https://pv-maria-ramersdorf-st-pius.de/event/hl-markus-evangelist/
CATEGORIES:Liturgischer Kalender
END:VEVENT
BEGIN:VEVENT
DTSTART;TZID=Europe/Berlin:20260425T090000
DTEND;TZID=Europe/Berlin:20260425T100000
DTSTAMP:20260419T162214
CREATED:20260327T145228Z
LAST-MODIFIED:20260327T145229Z
UID:6190-1777107600-1777111200@pv-maria-ramersdorf-st-pius.de
SUMMARY:Hl. Messe zu Ehren der Gottesmutter (Zelebration am Gnadenaltar)
DESCRIPTION:
URL:https://pv-maria-ramersdorf-st-pius.de/event/hl-messe-zu-ehren-der-gottesmutter-zelebration-am-gnadenaltar-3/
LOCATION:Pfarrkirche München-Mariä Himmelfahrt (Maria Ramersdorf)\, Aribonenstr. 9\, München\, 81669\, Germany
CATEGORIES:Termine Pfarrei
END:VEVENT
BEGIN:VEVENT
DTSTART;TZID=Europe/Berlin:20260425T143000
DTEND;TZID=Europe/Berlin:20260425T153000
DTSTAMP:20260419T162214
CREATED:20260406T110917Z
LAST-MODIFIED:20260406T110917Z
UID:6320-1777127400-1777131000@pv-maria-ramersdorf-st-pius.de
SUMMARY:Hl. Messe für + Friedrich-Karl Fürst zu Hohenlohe-Waldenburg
DESCRIPTION:
URL:https://pv-maria-ramersdorf-st-pius.de/event/hl-messe-fuer-friedrich-karl-fuerst-zu-hohenlohe-waldenburg/
LOCATION:Pfarrkirche München-Mariä Himmelfahrt (Maria Ramersdorf)\, Aribonenstr. 9\, München\, 81669\, Germany
CATEGORIES:Termine Pfarrei
END:VEVENT
BEGIN:VEVENT
DTSTART;TZID=Europe/Berlin:20260425T160000
DTEND;TZID=Europe/Berlin:20260425T170000
DTSTAMP:20260419T162214
CREATED:20260313T151247Z
LAST-MODIFIED:20260331T050641Z
UID:5806-1777132800-1777136400@pv-maria-ramersdorf-st-pius.de
SUMMARY:Peregrinatio fidei Beatae Mariae Virginis – Mit Maria auf dem Pilgerweg des Glaubens
DESCRIPTION:Treffen zu Gebet und Austausch mit Sr. Rossana Sollai SBA\, Schwestern der Schönen Liebe \nanschl. Kaminzimmer im Pfarrhaus zum Gebet und Austausch
URL:https://pv-maria-ramersdorf-st-pius.de/event/peregrinatio-fidei-beatae-mariae-virginis-mit-maria-auf-dem-pilgerweg-des-glaubens-9/
LOCATION:Pfarrkirche München-Mariä Himmelfahrt (Maria Ramersdorf)\, Aribonenstr. 9\, München\, 81669\, Germany
CATEGORIES:Peregrinatio fidei
END:VEVENT
BEGIN:VEVENT
DTSTART;TZID=Europe/Berlin:20260425T171500
DTEND;TZID=Europe/Berlin:20260425T181500
DTSTAMP:20260419T162214
CREATED:20260327T145229Z
LAST-MODIFIED:20260327T145229Z
UID:6194-1777137300-1777140900@pv-maria-ramersdorf-st-pius.de
SUMMARY:Rosenkranz und Beichtgelegenheit
DESCRIPTION:
URL:https://pv-maria-ramersdorf-st-pius.de/event/rosenkranz-und-beichtgelegenheit-8/
LOCATION:Pfarrkirche München-Mariä Himmelfahrt (Maria Ramersdorf)\, Aribonenstr. 9\, München\, 81669\, Germany
CATEGORIES:Termine Pfarrei
END:VEVENT
BEGIN:VEVENT
DTSTART;TZID=Europe/Berlin:20260425T180000
DTEND;TZID=Europe/Berlin:20260425T190000
DTSTAMP:20260419T162214
CREATED:20260327T145229Z
LAST-MODIFIED:20260327T145229Z
UID:6196-1777140000-1777143600@pv-maria-ramersdorf-st-pius.de
SUMMARY:Hl. Amt zum Vorabend
DESCRIPTION:
URL:https://pv-maria-ramersdorf-st-pius.de/event/hl-amt-zum-vorabend-3/
LOCATION:Pfarrkirche München-Mariä Himmelfahrt (Maria Ramersdorf)\, Aribonenstr. 9\, München\, 81669\, Germany
CATEGORIES:Termine Pfarrei
END:VEVENT
BEGIN:VEVENT
DTSTART;VALUE=DATE:20260426
DTEND;VALUE=DATE:20260427
DTSTAMP:20260419T162214
CREATED:20260117T093721Z
LAST-MODIFIED:20260117T093721Z
UID:507-1777161600-1777247999@pv-maria-ramersdorf-st-pius.de
SUMMARY:4. Sonntag der Osterzeit
DESCRIPTION:Tagesevangelium: Joh 10\, 1-10
URL:https://pv-maria-ramersdorf-st-pius.de/event/4-sonntag-der-osterzeit/
CATEGORIES:Liturgischer Kalender
END:VEVENT
BEGIN:VEVENT
DTSTART;TZID=Europe/Berlin:20260426T093000
DTEND;TZID=Europe/Berlin:20260426T103000
DTSTAMP:20260419T162214
CREATED:20260327T145230Z
LAST-MODIFIED:20260327T145230Z
UID:6198-1777195800-1777199400@pv-maria-ramersdorf-st-pius.de
SUMMARY:Erstkommunion (Kollekte?)\, für alle Lebenden und + der Pfarreien des Pfarrverbandes
DESCRIPTION:
URL:https://pv-maria-ramersdorf-st-pius.de/event/erstkommunion-kollekte-fuer-alle-lebenden-und-der-pfarreien-des-pfarrverbandes-2/
LOCATION:Pfarrheim St. Pius\, Piusstr. 11\, München\, 81675\, Germany
CATEGORIES:Termine Pfarrei
END:VEVENT
BEGIN:VEVENT
DTSTART;TZID=Europe/Berlin:20260426T110000
DTEND;TZID=Europe/Berlin:20260426T120000
DTSTAMP:20260419T162214
CREATED:20260327T145230Z
LAST-MODIFIED:20260327T145230Z
UID:6200-1777201200-1777204800@pv-maria-ramersdorf-st-pius.de
SUMMARY:Hl. Amt in Maria Ramersdorf
DESCRIPTION:
URL:https://pv-maria-ramersdorf-st-pius.de/event/hl-amt-in-maria-ramersdorf-6/
LOCATION:Pfarrkirche München-Mariä Himmelfahrt (Maria Ramersdorf)\, Aribonenstr. 9\, München\, 81669\, Germany
CATEGORIES:Termine Pfarrei
END:VEVENT
BEGIN:VEVENT
DTSTART;TZID=Europe/Berlin:20260426T170000
DTEND;TZID=Europe/Berlin:20260426T180000
DTSTAMP:20260419T162214
CREATED:20260327T145230Z
LAST-MODIFIED:20260327T145231Z
UID:6202-1777222800-1777226400@pv-maria-ramersdorf-st-pius.de
SUMMARY:Via Lucis mit Sr. Rosanna
DESCRIPTION:
URL:https://pv-maria-ramersdorf-st-pius.de/event/via-lucis-mit-sr-rosanna/
LOCATION:Pfarrkirche München-Mariä Himmelfahrt (Maria Ramersdorf)\, Aribonenstr. 9\, München\, 81669\, Germany
CATEGORIES:Termine Pfarrei
END:VEVENT
BEGIN:VEVENT
DTSTART;VALUE=DATE:20260427
DTEND;VALUE=DATE:20260428
DTSTAMP:20260419T162214
CREATED:20260117T093721Z
LAST-MODIFIED:20260117T093721Z
UID:509-1777248000-1777334399@pv-maria-ramersdorf-st-pius.de
SUMMARY:Hl. Petrus Kanisius\, Ordenspriester\, Kirchenlehrer (1597) bzw. Montag der 4. Osterwoche
DESCRIPTION:Tagesevangelium: Mt 5\, 13-19 bzw. Joh 10\, 1-10
URL:https://pv-maria-ramersdorf-st-pius.de/event/hl-petrus-kanisius-ordenspriester-kirchenlehrer-1597-bzw-montag-der-4-osterwoche/
CATEGORIES:Liturgischer Kalender
END:VEVENT
BEGIN:VEVENT
DTSTART;TZID=Europe/Berlin:20260427T080000
DTEND;TZID=Europe/Berlin:20260427T090000
DTSTAMP:20260419T162214
CREATED:20260327T145231Z
LAST-MODIFIED:20260327T145231Z
UID:6204-1777276800-1777280400@pv-maria-ramersdorf-st-pius.de
SUMMARY:Hl. Messe in Maria Ramersdorf
DESCRIPTION:
URL:https://pv-maria-ramersdorf-st-pius.de/event/hl-messe-in-maria-ramersdorf-13/
LOCATION:Pfarrkirche München-Mariä Himmelfahrt (Maria Ramersdorf)\, Aribonenstr. 9\, München\, 81669\, Germany
CATEGORIES:Termine Pfarrei
END:VEVENT
END:VCALENDAR