BEGIN:VCALENDAR
VERSION:2.0
PRODID:-//Pfarrverband Maria Ramersdorf - St. Pius - ECPv6.15.20//NONSGML v1.0//EN
CALSCALE:GREGORIAN
METHOD:PUBLISH
X-WR-CALNAME:Pfarrverband Maria Ramersdorf - St. Pius
X-ORIGINAL-URL:https://pv-maria-ramersdorf-st-pius.de
X-WR-CALDESC:Veranstaltungen für Pfarrverband Maria Ramersdorf - St. Pius
REFRESH-INTERVAL;VALUE=DURATION:PT1H
X-Robots-Tag:noindex
X-PUBLISHED-TTL:PT1H
BEGIN:VTIMEZONE
TZID:Europe/Berlin
BEGIN:DAYLIGHT
TZOFFSETFROM:+0100
TZOFFSETTO:+0200
TZNAME:CEST
DTSTART:20250330T010000
END:DAYLIGHT
BEGIN:STANDARD
TZOFFSETFROM:+0200
TZOFFSETTO:+0100
TZNAME:CET
DTSTART:20251026T010000
END:STANDARD
BEGIN:DAYLIGHT
TZOFFSETFROM:+0100
TZOFFSETTO:+0200
TZNAME:CEST
DTSTART:20260329T010000
END:DAYLIGHT
BEGIN:STANDARD
TZOFFSETFROM:+0200
TZOFFSETTO:+0100
TZNAME:CET
DTSTART:20261025T010000
END:STANDARD
BEGIN:DAYLIGHT
TZOFFSETFROM:+0100
TZOFFSETTO:+0200
TZNAME:CEST
DTSTART:20270328T010000
END:DAYLIGHT
BEGIN:STANDARD
TZOFFSETFROM:+0200
TZOFFSETTO:+0100
TZNAME:CET
DTSTART:20271031T010000
END:STANDARD
END:VTIMEZONE
BEGIN:VEVENT
DTSTART;VALUE=DATE:20260719
DTEND;VALUE=DATE:20260720
DTSTAMP:20260420T071342
CREATED:20260117T093737Z
LAST-MODIFIED:20260117T093737Z
UID:686-1784419200-1784505599@pv-maria-ramersdorf-st-pius.de
SUMMARY:16. Sonntag im Jahreskreis
DESCRIPTION:Tagesevangelium: Mt 13\, 24-43
URL:https://pv-maria-ramersdorf-st-pius.de/event/16-sonntag-im-jahreskreis/
CATEGORIES:Liturgischer Kalender
END:VEVENT
BEGIN:VEVENT
DTSTART;VALUE=DATE:20260720
DTEND;VALUE=DATE:20260721
DTSTAMP:20260420T071342
CREATED:20260117T093737Z
LAST-MODIFIED:20260117T093737Z
UID:691-1784505600-1784591999@pv-maria-ramersdorf-st-pius.de
SUMMARY:Hl. Apollinaris\, Bischof von Ravenna\, Märtyrer (um 200) bzw. Hl. Margareta\, Jungfrau\, Märtyrin in Antiochien  bzw. Montag der 16. Woche im Jahreskreis
DESCRIPTION:Tagesevangelium: Joh 10\, 11-18 bzw. Lk 9\, 23-26 bzw. Mt 12\, 38-42
URL:https://pv-maria-ramersdorf-st-pius.de/event/hl-apollinaris-bischof-von-ravenna-maertyrer-um-200-bzw-hl-margareta-jungfrau-maertyrin-in-antiochien-bzw-montag-der-16-woche-im-jahreskreis/
CATEGORIES:Liturgischer Kalender
END:VEVENT
BEGIN:VEVENT
DTSTART;VALUE=DATE:20260721
DTEND;VALUE=DATE:20260722
DTSTAMP:20260420T071342
CREATED:20260117T093737Z
LAST-MODIFIED:20260117T093737Z
UID:696-1784592000-1784678399@pv-maria-ramersdorf-st-pius.de
SUMMARY:Hl. Laurentius von Brindisi\, Ordenspriester\, Kirchenlehrer (1619) bzw. Dienstag der 16. Woche im Jahreskreis
DESCRIPTION:Tagesevangelium: Mk 4\, 1-10.13-20 bzw. Mt 12\, 46-50
URL:https://pv-maria-ramersdorf-st-pius.de/event/hl-laurentius-von-brindisi-ordenspriester-kirchenlehrer-1619-bzw-dienstag-der-16-woche-im-jahreskreis-2/
CATEGORIES:Liturgischer Kalender
END:VEVENT
BEGIN:VEVENT
DTSTART;VALUE=DATE:20260722
DTEND;VALUE=DATE:20260723
DTSTAMP:20260420T071342
CREATED:20260117T093738Z
LAST-MODIFIED:20260117T093738Z
UID:698-1784678400-1784764799@pv-maria-ramersdorf-st-pius.de
SUMMARY:Hl. Maria Magdalena\, Apostolin der Apostel
DESCRIPTION:Tagesevangelium: Joh 20\, 1-2.11-18 [Eigentext]
URL:https://pv-maria-ramersdorf-st-pius.de/event/hl-maria-magdalena-apostolin-der-apostel/
CATEGORIES:Liturgischer Kalender
END:VEVENT
BEGIN:VEVENT
DTSTART;VALUE=DATE:20260723
DTEND;VALUE=DATE:20260724
DTSTAMP:20260420T071342
CREATED:20260117T093738Z
LAST-MODIFIED:20260117T093738Z
UID:702-1784764800-1784851199@pv-maria-ramersdorf-st-pius.de
SUMMARY:Hl. Birgitta von Schweden\, Ordensgründerin\, Patronin Europas (1373)
DESCRIPTION:Tagesevangelium: Joh 15\, 1-8
URL:https://pv-maria-ramersdorf-st-pius.de/event/hl-birgitta-von-schweden-ordensgruenderin-patronin-europas-1373/
CATEGORIES:Liturgischer Kalender
END:VEVENT
BEGIN:VEVENT
DTSTART;VALUE=DATE:20260724
DTEND;VALUE=DATE:20260725
DTSTAMP:20260420T071342
CREATED:20260117T093738Z
LAST-MODIFIED:20260117T093738Z
UID:708-1784851200-1784937599@pv-maria-ramersdorf-st-pius.de
SUMMARY:Hl. Christophorus\, Märtyrer in Kleinasien (um 250) bzw. Hl. Scharbel Mahluf\, Ordenspriester (1898) bzw. Freitag der 16. Woche im Jahreskreis
DESCRIPTION:Tagesevangelium: Mt 10\, 28-33 bzw. Mt 19\, 27-29 bzw. Mt 13\, 18-23
URL:https://pv-maria-ramersdorf-st-pius.de/event/hl-christophorus-maertyrer-in-kleinasien-um-250-bzw-hl-scharbel-mahluf-ordenspriester-1898-bzw-freitag-der-16-woche-im-jahreskreis-2/
CATEGORIES:Liturgischer Kalender
END:VEVENT
BEGIN:VEVENT
DTSTART;VALUE=DATE:20260725
DTEND;VALUE=DATE:20260726
DTSTAMP:20260420T071342
CREATED:20260117T093738Z
LAST-MODIFIED:20260117T093738Z
UID:710-1784937600-1785023999@pv-maria-ramersdorf-st-pius.de
SUMMARY:Hl. Jakobus\, Apostel
DESCRIPTION:Tagesevangelium: Mt 20\, 20-28
URL:https://pv-maria-ramersdorf-st-pius.de/event/hl-jakobus-apostel/
CATEGORIES:Liturgischer Kalender
END:VEVENT
BEGIN:VEVENT
DTSTART;VALUE=DATE:20260726
DTEND;VALUE=DATE:20260727
DTSTAMP:20260420T071342
CREATED:20260117T093738Z
LAST-MODIFIED:20260117T093739Z
UID:714-1785024000-1785110399@pv-maria-ramersdorf-st-pius.de
SUMMARY:17. Sonntag im Jahreskreis
DESCRIPTION:Tagesevangelium: Mt 13\, 44-52
URL:https://pv-maria-ramersdorf-st-pius.de/event/17-sonntag-im-jahreskreis/
CATEGORIES:Liturgischer Kalender
END:VEVENT
BEGIN:VEVENT
DTSTART;VALUE=DATE:20260727
DTEND;VALUE=DATE:20260728
DTSTAMP:20260420T071342
CREATED:20260117T093739Z
LAST-MODIFIED:20260117T093739Z
UID:718-1785110400-1785196799@pv-maria-ramersdorf-st-pius.de
SUMMARY:Montag der 17. Woche im Jahreskreis
DESCRIPTION:Tagesevangelium: Mt 13\, 31-35
URL:https://pv-maria-ramersdorf-st-pius.de/event/montag-der-17-woche-im-jahreskreis/
CATEGORIES:Liturgischer Kalender
END:VEVENT
BEGIN:VEVENT
DTSTART;VALUE=DATE:20260728
DTEND;VALUE=DATE:20260729
DTSTAMP:20260420T071342
CREATED:20260117T093739Z
LAST-MODIFIED:20260117T093740Z
UID:722-1785196800-1785283199@pv-maria-ramersdorf-st-pius.de
SUMMARY:Dienstag der 17. Woche im Jahreskreis
DESCRIPTION:Tagesevangelium: Mt 13\, 36-43
URL:https://pv-maria-ramersdorf-st-pius.de/event/dienstag-der-17-woche-im-jahreskreis/
CATEGORIES:Liturgischer Kalender
END:VEVENT
BEGIN:VEVENT
DTSTART;VALUE=DATE:20260729
DTEND;VALUE=DATE:20260730
DTSTAMP:20260420T071342
CREATED:20260117T093740Z
LAST-MODIFIED:20260117T093740Z
UID:726-1785283200-1785369599@pv-maria-ramersdorf-st-pius.de
SUMMARY:Hl. Marta\, Maria und Lazarus bzw. Bahnlesungen (Mittwoch der 17. Woche im Jahreskreis)
DESCRIPTION:Tagesevangelium: Joh 11\, 19-27 oder Lk 10\, 38-42 [Eigentext]
URL:https://pv-maria-ramersdorf-st-pius.de/event/hl-marta-maria-und-lazarus-bzw-bahnlesungen-mittwoch-der-17-woche-im-jahreskreis/
CATEGORIES:Liturgischer Kalender
END:VEVENT
BEGIN:VEVENT
DTSTART;VALUE=DATE:20260730
DTEND;VALUE=DATE:20260731
DTSTAMP:20260420T071342
CREATED:20260117T093740Z
LAST-MODIFIED:20260117T093740Z
UID:730-1785369600-1785455999@pv-maria-ramersdorf-st-pius.de
SUMMARY:Sel. Batho\, Priester\, Glaubensbote bzw. Hl. Petrus Chrysologus\, Bischof von Ravenna\, Kirchenlehrer (450) bzw. Donnerstag der 17. Woche im Jahreskreis
DESCRIPTION:Tagesevangelium: Lk 6\, 43-45 bzw. Mt 13\, 47-52
URL:https://pv-maria-ramersdorf-st-pius.de/event/sel-batho-priester-glaubensbote-bzw-hl-petrus-chrysologus-bischof-von-ravenna-kirchenlehrer-450-bzw-donnerstag-der-17-woche-im-jahreskreis/
CATEGORIES:Liturgischer Kalender
END:VEVENT
BEGIN:VEVENT
DTSTART;VALUE=DATE:20260731
DTEND;VALUE=DATE:20260801
DTSTAMP:20260420T071342
CREATED:20260117T093740Z
LAST-MODIFIED:20260117T093740Z
UID:734-1785456000-1785542399@pv-maria-ramersdorf-st-pius.de
SUMMARY:Hl. Ignatius von Loyola\, Priester\, Ordensgründer (1556) bzw. Bahnlesungen (Freitag der 17. Woche im Jahreskreis)
DESCRIPTION:Tagesevangelium: Lk 14\, 25-33 bzw. Mt 13\, 54-58
URL:https://pv-maria-ramersdorf-st-pius.de/event/hl-ignatius-von-loyola-priester-ordensgruender-1556-bzw-bahnlesungen-freitag-der-17-woche-im-jahreskreis/
CATEGORIES:Liturgischer Kalender
END:VEVENT
BEGIN:VEVENT
DTSTART;VALUE=DATE:20260801
DTEND;VALUE=DATE:20260802
DTSTAMP:20260420T071342
CREATED:20260117T093740Z
LAST-MODIFIED:20260117T093741Z
UID:738-1785542400-1785628799@pv-maria-ramersdorf-st-pius.de
SUMMARY:Hl. Alfons Maria von Liguori\, Ordensgründer\, Bischof\, Kirchenlehrer (1787) bzw. Bahnlesungen (Samstag der 17. Woche im Jahreskreis)
DESCRIPTION:Tagesevangelium: Mt 5\, 13-19 bzw. Mt 14\, 1-12
URL:https://pv-maria-ramersdorf-st-pius.de/event/hl-alfons-maria-von-liguori-ordensgruender-bischof-kirchenlehrer-1787-bzw-bahnlesungen-samstag-der-17-woche-im-jahreskreis/
CATEGORIES:Liturgischer Kalender
END:VEVENT
BEGIN:VEVENT
DTSTART;VALUE=DATE:20260802
DTEND;VALUE=DATE:20260803
DTSTAMP:20260420T071342
CREATED:20260117T093741Z
LAST-MODIFIED:20260117T093741Z
UID:742-1785628800-1785715199@pv-maria-ramersdorf-st-pius.de
SUMMARY:18. Sonntag im Jahreskreis
DESCRIPTION:Tagesevangelium: Mt 14\, 13-21
URL:https://pv-maria-ramersdorf-st-pius.de/event/18-sonntag-im-jahreskreis/
CATEGORIES:Liturgischer Kalender
END:VEVENT
BEGIN:VEVENT
DTSTART;VALUE=DATE:20260803
DTEND;VALUE=DATE:20260804
DTSTAMP:20260420T071342
CREATED:20260117T093741Z
LAST-MODIFIED:20260117T093741Z
UID:746-1785715200-1785801599@pv-maria-ramersdorf-st-pius.de
SUMMARY:Montag der 18. Woche im Jahreskreis
DESCRIPTION:Tagesevangelium: Mt 14\, 13-21
URL:https://pv-maria-ramersdorf-st-pius.de/event/montag-der-18-woche-im-jahreskreis/
CATEGORIES:Liturgischer Kalender
END:VEVENT
BEGIN:VEVENT
DTSTART;VALUE=DATE:20260804
DTEND;VALUE=DATE:20260805
DTSTAMP:20260420T071342
CREATED:20260117T093741Z
LAST-MODIFIED:20260117T093742Z
UID:750-1785801600-1785887999@pv-maria-ramersdorf-st-pius.de
SUMMARY:Hl. Johannes Maria Vianney\, Pfarrer von Ars (1859) bzw. Bahnlesungen (Dienstag der 18. Woche im Jahreskreis)
DESCRIPTION:Tagesevangelium: Mt 9\, 35 – 10\, 1 bzw. Mt 14\, 22-36 oder Mt 15\, 1-2.10-14
URL:https://pv-maria-ramersdorf-st-pius.de/event/hl-johannes-maria-vianney-pfarrer-von-ars-1859-bzw-bahnlesungen-dienstag-der-18-woche-im-jahreskreis/
CATEGORIES:Liturgischer Kalender
END:VEVENT
BEGIN:VEVENT
DTSTART;VALUE=DATE:20260805
DTEND;VALUE=DATE:20260806
DTSTAMP:20260420T071342
CREATED:20260117T093742Z
LAST-MODIFIED:20260117T093742Z
UID:754-1785888000-1785974399@pv-maria-ramersdorf-st-pius.de
SUMMARY:Weihetag der Basilika Santa Maria Maggiore in Rom bzw. Mittwoch der 18. Woche im Jahreskreis
DESCRIPTION:Tagesevangelium: Lk 11\, 27-28 bzw. Mt 15\, 21-28
URL:https://pv-maria-ramersdorf-st-pius.de/event/weihetag-der-basilika-santa-maria-maggiore-in-rom-bzw-mittwoch-der-18-woche-im-jahreskreis/
CATEGORIES:Liturgischer Kalender
END:VEVENT
BEGIN:VEVENT
DTSTART;VALUE=DATE:20260806
DTEND;VALUE=DATE:20260807
DTSTAMP:20260420T071342
CREATED:20260117T093742Z
LAST-MODIFIED:20260117T093742Z
UID:760-1785974400-1786060799@pv-maria-ramersdorf-st-pius.de
SUMMARY:Verklärung des Herrn
DESCRIPTION:Tagesevangelium: Mt 17\, 1-9 oder Mk 9\, 2-10 oder Lk 9\, 28b-36
URL:https://pv-maria-ramersdorf-st-pius.de/event/verklaerung-des-herrn-2/
CATEGORIES:Liturgischer Kalender
END:VEVENT
BEGIN:VEVENT
DTSTART;VALUE=DATE:20260807
DTEND;VALUE=DATE:20260808
DTSTAMP:20260420T071342
CREATED:20260117T093742Z
LAST-MODIFIED:20260117T093742Z
UID:763-1786060800-1786147199@pv-maria-ramersdorf-st-pius.de
SUMMARY:Hl. Afra\, Märtyrin bzw. Hl. Kajetan\, Priester\, Ordensgründer (1547) bzw. Hl. Xystus II.\, Papst\, und Gefährten\, Märtyrer bzw. Freitag der 18. Woche im Jahreskreis
DESCRIPTION:Tagesevangelium: Lk 12\, 32-34 bzw. Mt 10\, 28-33 bzw. Mt 16\, 24-28
URL:https://pv-maria-ramersdorf-st-pius.de/event/hl-afra-maertyrin-bzw-hl-kajetan-priester-ordensgruender-1547-bzw-hl-xystus-ii-papst-und-gefaehrten-maertyrer-bzw-freitag-der-18-woche-im-jahreskreis/
CATEGORIES:Liturgischer Kalender
END:VEVENT
BEGIN:VEVENT
DTSTART;VALUE=DATE:20260808
DTEND;VALUE=DATE:20260809
DTSTAMP:20260420T071342
CREATED:20260117T093742Z
LAST-MODIFIED:20260117T093743Z
UID:767-1786147200-1786233599@pv-maria-ramersdorf-st-pius.de
SUMMARY:Hl. Dominikus\, Priester\, Ordensgründer (1221) bzw. Bahnlesungen (Samstag der 18. Woche im Jahreskreis)
DESCRIPTION:Tagesevangelium: Lk 9\, 57-62 bzw. Mt 17\, 14-20
URL:https://pv-maria-ramersdorf-st-pius.de/event/hl-dominikus-priester-ordensgruender-1221-bzw-bahnlesungen-samstag-der-18-woche-im-jahreskreis/
CATEGORIES:Liturgischer Kalender
END:VEVENT
BEGIN:VEVENT
DTSTART;VALUE=DATE:20260809
DTEND;VALUE=DATE:20260810
DTSTAMP:20260420T071342
CREATED:20260117T093743Z
LAST-MODIFIED:20260117T093743Z
UID:772-1786233600-1786319999@pv-maria-ramersdorf-st-pius.de
SUMMARY:19. Sonntag im Jahreskreis
DESCRIPTION:Tagesevangelium: Mt 14\, 22-33
URL:https://pv-maria-ramersdorf-st-pius.de/event/19-sonntag-im-jahreskreis-2/
CATEGORIES:Liturgischer Kalender
END:VEVENT
BEGIN:VEVENT
DTSTART;VALUE=DATE:20260810
DTEND;VALUE=DATE:20260811
DTSTAMP:20260420T071342
CREATED:20260117T093743Z
LAST-MODIFIED:20260117T093743Z
UID:775-1786320000-1786406399@pv-maria-ramersdorf-st-pius.de
SUMMARY:Hl. Laurentius\, Diakon\, Märtyrer in Rom (258)
DESCRIPTION:Tagesevangelium: Joh 12\, 24-26
URL:https://pv-maria-ramersdorf-st-pius.de/event/hl-laurentius-diakon-maertyrer-in-rom-258/
CATEGORIES:Liturgischer Kalender
END:VEVENT
BEGIN:VEVENT
DTSTART;VALUE=DATE:20260811
DTEND;VALUE=DATE:20260812
DTSTAMP:20260420T071342
CREATED:20260117T093743Z
LAST-MODIFIED:20260117T093743Z
UID:779-1786406400-1786492799@pv-maria-ramersdorf-st-pius.de
SUMMARY:Hl. Klara von Assisi\, Jungfrau\, Ordensgründerin (1253) bzw. Bahnlesungen (Dienstag der 19. Woche im Jahreskreis)
DESCRIPTION:Tagesevangelium: Mt 19\, 27-29 bzw. Mt 18\, 1-5.10.12-14
URL:https://pv-maria-ramersdorf-st-pius.de/event/hl-klara-von-assisi-jungfrau-ordensgruenderin-1253-bzw-bahnlesungen-dienstag-der-19-woche-im-jahreskreis/
CATEGORIES:Liturgischer Kalender
END:VEVENT
BEGIN:VEVENT
DTSTART;VALUE=DATE:20260812
DTEND;VALUE=DATE:20260813
DTSTAMP:20260420T071342
CREATED:20260117T093743Z
LAST-MODIFIED:20260117T093744Z
UID:783-1786492800-1786579199@pv-maria-ramersdorf-st-pius.de
SUMMARY:Hl. Johanna Franziska von Chantal\, Ordensgründerin (1641) bzw. Sel. Karl Leisner\, Priester\, Märtyrer bzw. Mittwoch der 19. Woche im Jahreskreis
DESCRIPTION:Tagesevangelium: Mk 3\, 31-35 bzw. Mt 18\, 15-20
URL:https://pv-maria-ramersdorf-st-pius.de/event/hl-johanna-franziska-von-chantal-ordensgruenderin-1641-bzw-sel-karl-leisner-priester-maertyrer-bzw-mittwoch-der-19-woche-im-jahreskreis/
CATEGORIES:Liturgischer Kalender
END:VEVENT
BEGIN:VEVENT
DTSTART;VALUE=DATE:20260813
DTEND;VALUE=DATE:20260814
DTSTAMP:20260420T071342
CREATED:20260117T093744Z
LAST-MODIFIED:20260117T093744Z
UID:787-1786579200-1786665599@pv-maria-ramersdorf-st-pius.de
SUMMARY:Hl. Pontianus\, Papst\, und Hippolyt\, Priester\, Märtyrer (235) bzw. Donnerstag der 19. Woche im Jahreskreis
DESCRIPTION:Tagesevangelium: Joh 15\, 18-21 bzw. Mt 18\, 21 – 19\, 1
URL:https://pv-maria-ramersdorf-st-pius.de/event/hl-pontianus-papst-und-hippolyt-priester-maertyrer-235-bzw-donnerstag-der-19-woche-im-jahreskreis-2/
CATEGORIES:Liturgischer Kalender
END:VEVENT
BEGIN:VEVENT
DTSTART;VALUE=DATE:20260814
DTEND;VALUE=DATE:20260815
DTSTAMP:20260420T071342
CREATED:20260117T093744Z
LAST-MODIFIED:20260117T093744Z
UID:791-1786665600-1786751999@pv-maria-ramersdorf-st-pius.de
SUMMARY:Hl. Maximilian Kolbe\, Ordenspriester\, Märtyrer (1941) bzw. Bahnlesungen (Freitag der 19. Woche im Jahreskreis)
DESCRIPTION:Tagesevangelium: Joh 15\, 9-17 bzw. Mt 19\, 3-12
URL:https://pv-maria-ramersdorf-st-pius.de/event/hl-maximilian-kolbe-ordenspriester-maertyrer-1941-bzw-bahnlesungen-freitag-der-19-woche-im-jahreskreis/
CATEGORIES:Liturgischer Kalender
END:VEVENT
BEGIN:VEVENT
DTSTART;VALUE=DATE:20260815
DTEND;VALUE=DATE:20260816
DTSTAMP:20260420T071342
CREATED:20260117T093744Z
LAST-MODIFIED:20260117T093745Z
UID:795-1786752000-1786838399@pv-maria-ramersdorf-st-pius.de
SUMMARY:Mariä Aufnahme in den Himmel
DESCRIPTION:Am Vorabend bzw. Am Tag\,  \nTagesevangelium: Lk 11\, 27-28 bzw. Lk 1\, 39-56
URL:https://pv-maria-ramersdorf-st-pius.de/event/mariae-aufnahme-in-den-himmel-2/
CATEGORIES:Liturgischer Kalender
END:VEVENT
BEGIN:VEVENT
DTSTART;VALUE=DATE:20260816
DTEND;VALUE=DATE:20260817
DTSTAMP:20260420T071342
CREATED:20260117T093745Z
LAST-MODIFIED:20260117T093745Z
UID:799-1786838400-1786924799@pv-maria-ramersdorf-st-pius.de
SUMMARY:20. Sonntag im Jahreskreis
DESCRIPTION:Tagesevangelium: Mt 15\, 21-28
URL:https://pv-maria-ramersdorf-st-pius.de/event/20-sonntag-im-jahreskreis/
CATEGORIES:Liturgischer Kalender
END:VEVENT
BEGIN:VEVENT
DTSTART;VALUE=DATE:20260817
DTEND;VALUE=DATE:20260818
DTSTAMP:20260420T071342
CREATED:20260117T093745Z
LAST-MODIFIED:20260117T093745Z
UID:803-1786924800-1787011199@pv-maria-ramersdorf-st-pius.de
SUMMARY:Montag der 20. Woche im Jahreskreis
DESCRIPTION:Tagesevangelium: Mt 19\, 16-22
URL:https://pv-maria-ramersdorf-st-pius.de/event/montag-der-20-woche-im-jahreskreis/
CATEGORIES:Liturgischer Kalender
END:VEVENT
END:VCALENDAR